BEGIN:VCALENDAR
VERSION:2.0
PRODID:-//ChamberMaster//Event Calendar 2.0//EN
METHOD:PUBLISH
X-PUBLISHED-TTL:P3D
REFRESH-INTERVAL:P3D
CALSCALE:GREGORIAN
BEGIN:VEVENT
DTSTART:20181222T000000Z
DTEND:20181222T020000Z
X-MICROSOFT-CDO-ALLDAYEVENT:FALSE
SUMMARY:Lit from Within: Winter Solstice Celebration
DESCRIPTION:Join us at Northeast Harbor Library to enjoy an uplifting Winter Solstice presentation featuring the poetry of Paul Weiss and the music of Timbered Lake. This event is sponsored by The Whole Health Center. (Snow date is Dec\, 22nd.)
X-ALT-DESC;FMTTYPE=text/html:Join us at Northeast Harbor Library to enjoy an uplifting Winter Solstice presentation featuring the poetry of Paul Weiss and the music of Timbered Lake. This event is sponsored by The Whole Health Center. (Snow date is Dec\, 22nd.)
LOCATION:Northeast Harbor Library 1 Joy Road
UID:e.3061.4789
SEQUENCE:3
DTSTAMP:20260420T113028Z
URL:https://www.visitbarharbor.com/events/details/lit-from-within-winter-solstice-celebration-4789
END:VEVENT

END:VCALENDAR
