BEGIN:VCALENDAR
VERSION:2.0
PRODID:-//ChamberMaster//Event Calendar 2.0//EN
METHOD:PUBLISH
X-PUBLISHED-TTL:P3D
REFRESH-INTERVAL:P3D
CALSCALE:GREGORIAN
BEGIN:VEVENT
DTSTART:20190906T140000Z
DTEND:20190906T190000Z
X-MICROSOFT-CDO-ALLDAYEVENT:FALSE
SUMMARY:Linoleum Block Printing with Holly Berry
DESCRIPTION:In this hands-on workshop\, you will create a multicolor print from a single block of linoleum. The "reduction cut" process involves carving a design from a linoleum block\, bit by bit\, printing each color in sequence from light to dark\, layer by layer. Each color is printed first\, then cut away from the block before introducing the next color. A fun challenge as all work\, from start to finish\, is done in reverse of the final print. Bring a bag lunch.\n\nHolly Berry is an illustrator and block printmaker living in Waldoboro\, Maine. She earned a BFA from Rhode Island School of Design and has illustrated many award-winning children's books\, toys and products. Along with illustration\, Berry makes relief prints of varied subject matter\, which have been exhibited in juried and invitational shows throughout the country. She was recognized with an Individual Arts Fellowship in Printmaking by the Maine Arts Commission and her work was recently included in the Maine-Aomori Print Exchange between Maine and Japan. www.hollyberrydesign.com.  Space is limited and pre-registration is required at www.woodlawnmuseum.com.
X-ALT-DESC;FMTTYPE=text/html:<div>\n<p>In this hands-on workshop\, you will create a multicolor print from a single block of linoleum. The &ldquo\;reduction cut&rdquo\; process involves carving a design from a linoleum block\, bit by bit\, printing each color in&nbsp\;sequence from light to dark\, layer by layer. Each color is printed first\, then cut away from the block before introducing the next color. A fun challenge as all work\, from start to finish\, is done in reverse of the final print.&nbsp\;Bring a bag lunch.</p>\n\n<p>Holly Berry is an illustrator and block printmaker living in Waldoboro\, Maine.&nbsp\;She earned a BFA from Rhode Island School of Design and has illustrated many award-winning children&rsquo\;s books\, toys and products.&nbsp\;Along with illustration\, Berry makes relief prints of varied subject matter\, which have been exhibited in juried and invitational shows throughout the country. She was recognized with an&nbsp\;Individual Arts Fellowship in Printmaking by the Maine Arts Commission and her work was recently included in the Maine-Aomori Print Exchange between Maine and Japan.&nbsp\;<a href="http://www.hollyberrydesign.com/">www.hollyberrydesign.com</a>. &nbsp\;Space is limited and pre-registration is required at www.woodlawnmuseum.com.</p>\n</div>\n
LOCATION:Woodlawn Museum 19 Black House Dr. Ellsworth\, ME 04605
UID:e.3061.8934
SEQUENCE:3
DTSTAMP:20260419T173334Z
URL:https://www.visitbarharbor.com/events/details/linoleum-block-printing-with-holly-berry-8934
END:VEVENT

END:VCALENDAR
