BEGIN:VCALENDAR
VERSION:2.0
PRODID:-//ChamberMaster//Event Calendar 2.0//EN
METHOD:PUBLISH
X-PUBLISHED-TTL:P3D
REFRESH-INTERVAL:P3D
CALSCALE:GREGORIAN
BEGIN:VEVENT
DTSTART:20181115T190000Z
DTEND:20181115T203000Z
X-MICROSOFT-CDO-ALLDAYEVENT:FALSE
SUMMARY:Library Tea
DESCRIPTION:Thanksgiving Tea at the Library You are invited to the Library for a Thanksgiving themed tea. Everyone is welcome to enjoy a cup of tea by the Library's fireplace\, nibble on a homemade treat\, and enjoy the company of others. Ruth Grierson and friends will provide live music.
X-ALT-DESC;FMTTYPE=text/html:Thanksgiving Tea at the Library You are invited to the Library for a Thanksgiving themed tea. Everyone is welcome to enjoy a cup of tea by the Library&rsquo\;s fireplace\, nibble on a homemade treat\, and enjoy the company of others. Ruth Grierson and friends will provide live music.
LOCATION:Southwest Harbor Public Library
UID:e.3061.3983
SEQUENCE:3
DTSTAMP:20260420T112741Z
URL:https://www.visitbarharbor.com/events/details/library-tea-3983
END:VEVENT

END:VCALENDAR
