BEGIN:VCALENDAR
VERSION:2.0
PRODID:-//ChamberMaster//Event Calendar 2.0//EN
METHOD:PUBLISH
X-PUBLISHED-TTL:P3D
REFRESH-INTERVAL:P3D
CALSCALE:GREGORIAN
BEGIN:VEVENT
DTSTART:20180926T160000Z
DTEND:20180926T180000Z
X-MICROSOFT-CDO-ALLDAYEVENT:FALSE
SUMMARY:Lewiston Auburn Library Program with Steve Valleau
DESCRIPTION:Please join us for a bird carving talk and demo by Steve Valleau\, artist at the Wendell Gilley Museum\, as part of the Year of the Bird program. http://lplonline.org/
X-ALT-DESC;FMTTYPE=text/html:Please join us for a bird carving talk and demo by Steve Valleau\, artist at the Wendell Gilley Museum\, as part of the Year of the Bird program. http://lplonline.org/
LOCATION:Lewiston Auburn Library 200 Lisbon St Lewiston\, ME 04240
UID:e.3061.3527
SEQUENCE:3
DTSTAMP:20260420T145913Z
URL:https://www.visitbarharbor.com/events/details/lewiston-auburn-library-program-with-steve-valleau-3527
END:VEVENT

END:VCALENDAR
