BEGIN:VCALENDAR
VERSION:2.0
PRODID:-//ChamberMaster//Event Calendar 2.0//EN
METHOD:PUBLISH
X-PUBLISHED-TTL:P3D
REFRESH-INTERVAL:P3D
CALSCALE:GREGORIAN
BEGIN:VEVENT
DTSTART:20190427T140000Z
DTEND:20190427T180000Z
X-MICROSOFT-CDO-ALLDAYEVENT:FALSE
SUMMARY:Lego Day at the Seal Cove Auto Museum
DESCRIPTION:Kids of all ages are invited to come and be inspired by the unique collection of the earliest cars and motorcycles at the Auto Museum\, and then create their own automobile inspiration with the museum's Lego  brand blocks.\n\n\n\nFree and open to the public!\n\nThe Legos  provided at the Seal Cove Auto Museum will remain the property of the museum\; participants will not be able to take their creations home. This is event is not affiliated with or sponsored by Lego .
X-ALT-DESC;FMTTYPE=text/html:<p>Kids of all ages are invited to come and be inspired by the unique collection of the earliest cars and motorcycles at the Auto Museum\, and then create their own automobile inspiration with the museum&rsquo\;s Lego&reg\; brand blocks.<br />\n<br />\nFree and open to the public!</p>\n\n<p>The Legos&reg\; provided at the Seal Cove Auto Museum will remain the property of the museum\; participants will not be able to take their creations home. This is event is not affiliated with or sponsored by Lego&reg\;.</p>\n
LOCATION:Seal Cove Auto Museum 1414 Tremont Road Seal Cove\, ME 04674
UID:e.3061.8819
SEQUENCE:3
DTSTAMP:20260420T024125Z
URL:https://www.visitbarharbor.com/events/details/lego-day-at-the-seal-cove-auto-museum-8819
END:VEVENT

END:VCALENDAR
