BEGIN:VCALENDAR
VERSION:2.0
PRODID:-//ChamberMaster//Event Calendar 2.0//EN
METHOD:PUBLISH
X-PUBLISHED-TTL:P3D
REFRESH-INTERVAL:P3D
CALSCALE:GREGORIAN
BEGIN:VEVENT
DTSTART:20180718T220000Z
DTEND:20180718T230000Z
X-MICROSOFT-CDO-ALLDAYEVENT:FALSE
SUMMARY:Lecture Series: Marlinespike and sailors knots with Timothy Whitten
DESCRIPTION:Come and learn about fancy nautical weaving and ropework known as "marlinespike work".  Tim owns and operates the Marlinespike Chandlery\, his studio gallery located on Deer Isle.   Some of Tim's work will be on display.\n\nWoodlawn's lecture series is held in Woodlawn's Sleigh Barn.  All lectures are open to the public and free of charge\, although donations are greatly appreciated.  Space is limited.  Reservations are required.
X-ALT-DESC;FMTTYPE=text/html:<div>\n<p>Come and learn about fancy nautical weaving and ropework known as &ldquo\;marlinespike work&rdquo\;. &nbsp\;Tim owns and operates the <a href="http://www.marlinespike.com/">Marlinespike Chandlery</a>\, his studio gallery located on Deer Isle. &nbsp\;&nbsp\;Some of Tim&rsquo\;s work will be on display.</p>\n\n<p>Woodlawn&rsquo\;s lecture series is held in Woodlawn&rsquo\;s Sleigh Barn. &nbsp\;All lectures are open to the public and free of charge\, although donations are greatly appreciated. &nbsp\;<strong>Space is limited. &nbsp\;<a href="https://woodlawnmuseum.com/event/marlinespike/">Reservations are required.</a></strong></p>\n</div>\n
LOCATION:Woodlawn Museum\, 19 Black House Drive\, Ellsworth\, ME 04605
UID:e.3061.2198
SEQUENCE:3
DTSTAMP:20260420T183136Z
URL:https://www.visitbarharbor.com/events/details/lecture-series-marlinespike-and-sailors-knots-with-timothy-whitten-2198
END:VEVENT

END:VCALENDAR
