BEGIN:VCALENDAR
VERSION:2.0
PRODID:-//ChamberMaster//Event Calendar 2.0//EN
METHOD:PUBLISH
X-PUBLISHED-TTL:P3D
REFRESH-INTERVAL:P3D
CALSCALE:GREGORIAN
BEGIN:VEVENT
DTSTART:20180816T150000Z
DTEND:20180816T170000Z
X-MICROSOFT-CDO-ALLDAYEVENT:FALSE
SUMMARY:Lecture and Book Signing: Walter Smalling\, Jr. Architectural Photographer
DESCRIPTION:Thursday\, August 16\, 11:00 as part of the Ellsworth Antiques Show.\n\nWalter Smalling will speak about his experience as a preservationist photographer.  For 25 years\, he has specialized in architectural photography for architects\, designers\, book publishers\, corporations\, magazines\, and museums.  He has published 14 books\, primarily on architecture specializing in historic preservation\, and copies will be available for signing.
X-ALT-DESC;FMTTYPE=text/html:<div>\n<p>Thursday\, August 16\, 11:00 as part of the Ellsworth Antiques Show.</p>\n\n<p>Walter Smalling will speak about his experience as a preservationist photographer.&nbsp\; For 25 years\, he has specialized in architectural photography for architects\, designers\, book publishers\, corporations\, magazines\, and museums.&nbsp\; He has published 14 books\, primarily on architecture specializing in historic preservation\, and copies will be available for signing.</p>\n</div>\n
LOCATION:Woodlawn Museum\, 19 Black House Drive\, Ellsworth\, ME 04605
UID:e.3061.2510
SEQUENCE:3
DTSTAMP:20260420T170341Z
URL:https://www.visitbarharbor.com/events/details/lecture-and-book-signing-walter-smalling-jr-architectural-photographer-2510
END:VEVENT

END:VCALENDAR
