BEGIN:VCALENDAR
VERSION:2.0
PRODID:-//ChamberMaster//Event Calendar 2.0//EN
METHOD:PUBLISH
X-PUBLISHED-TTL:P3D
REFRESH-INTERVAL:P3D
CALSCALE:GREGORIAN
BEGIN:VEVENT
DTSTART:20180817T150000Z
DTEND:20180817T170000Z
X-MICROSOFT-CDO-ALLDAYEVENT:FALSE
SUMMARY:Lecture and Book Signing: Architect Gil Schafer III
DESCRIPTION:Friday\, August 17\,11:00 a.m.\, as part of the Ellsworth Antiques Show.\n\nLecture and book signing by award-winning architect and author Gil Schafer III with complimentary coffee and scones.\n\nAward-winning architect and author of the new book A Place to Call Home\, Gil Schafer believes the most successful houses are the ones that celebrate living houses with timeless charm that are imbued with memory and a distinct sense of place. It's this dialogue between past and present that enables him to interpret traditional principles for a multiplicity of architectural styles within contemporary ways of living. Join Schafer as he opens the doors to his world of comfortable classicism\, sharing some of the firm's most recent\, and exciting\, projects from around the country and walking through the inner workings of his distinctive approach from concrete techniques to the more emotional and intuitive aspects of his process showing how he brings his projects to life and fills them with soul.\n\nAward-winning architect Gil Schafer III is one of the world's leading experts on contemporary classical architecture. A member of Architectural Digest's AD 100 and a winner of Veranda's "Art of Design Award\," Schafer is a member of the Yale School of Architecture Dean's Council\, a trustee of the Thomas Jefferson Foundation\, and served as president and then chairman of the Institute of Classical Architecture & Art for over a decade. He holds a Masters of Architecture from the Yale School of Architecture and is the author of the bestselling book The Great American House and the newly released A Place to Call Home. Schafer's work has been featured in numerous national and international publications\, including Architectural Digest\, Elle D cor\, Veranda\, The New York Times\, and The Wall Street Journal. When he's not traveling for work\, Schafer divides his time between New York City\, upstate New York\, and Maine.
X-ALT-DESC;FMTTYPE=text/html:<div>\n<p>Friday\, August 17\,11:00 a.m.\, as part of the Ellsworth Antiques Show.</p>\n\n<p>Lecture and book signing by award-winning architect and author Gil Schafer III with complimentary coffee and scones.</p>\n\n<p><span style="color:#222222"><span style="font-family:arial\,helvetica\,sans-serif">Award-winning architect and author of the new book&nbsp\;</span><span style="font-family:arial\,helvetica\,sans-serif"><em>A Place&nbsp\;</em></span><span style="font-family:arial\,helvetica\,sans-serif"><em>to</em></span><span style="font-family:arial\,helvetica\,sans-serif"><em>&nbsp\;</em></span><span style="font-family:arial\,helvetica\,sans-serif"><em>Call</em></span><span style="font-family:arial\,helvetica\,sans-serif"><em>&nbsp\;</em></span><span style="font-family:arial\,helvetica\,sans-serif"><em>Home</em></span><span style="font-family:arial\,helvetica\,sans-serif">\,&nbsp\;</span><span style="font-family:arial\,helvetica\,sans-serif">Gil</span><span style="font-family:arial\,helvetica\,sans-serif">&nbsp\;Schafer believes the most successful houses are the ones that celebrate living&mdash\;houses with timeless charm that are imbued with memory and a distinct sense of place.&nbsp\;It&rsquo\;s this dialogue between past and present that enables him&nbsp\;</span><span style="font-family:arial\,helvetica\,sans-serif">to</span><span style="font-family:arial\,helvetica\,sans-serif">&nbsp\;interpret traditional principles for a multiplicity of architectural styles within contemporary ways of living. Join Schafer as he opens the doors&nbsp\;</span><span style="font-family:arial\,helvetica\,sans-serif">to</span><span style="font-family:arial\,helvetica\,sans-serif">&nbsp\;his world of comfortable classicism\, sharing some of the firm&rsquo\;s most recent\, and exciting\, projects from around the country and walking through the inner workings of his distinctive approach&mdash\;from concrete techniques&nbsp\;</span><span style="font-family:arial\,helvetica\,sans-serif">to</span><span style="font-family:arial\,helvetica\,sans-serif">&nbsp\;the more emotional and intuitive aspects of his process&mdash\;showing how he brings his projects&nbsp\;</span><span style="font-family:arial\,helvetica\,sans-serif">to</span><span style="font-family:arial\,helvetica\,sans-serif">&nbsp\;life and fills them with soul.</span></span></p>\n\n<p><span style="color:#222222"><span style="font-family:arial\,helvetica\,sans-serif">Award-winning architect&nbsp\;</span><span style="font-family:arial\,helvetica\,sans-serif">Gil</span><span style="font-family:arial\,helvetica\,sans-serif">&nbsp\;Schafer III is one of the world&rsquo\;s leading experts on contemporary classical architecture. A member of&nbsp\;</span><span style="font-family:arial\,helvetica\,sans-serif"><em>Architectural Digest</em></span><span style="font-family:arial\,helvetica\,sans-serif">&rsquo\;s AD 100 and a winner of&nbsp\;</span><span style="font-family:arial\,helvetica\,sans-serif"><em>Veranda</em></span><span style="font-family:arial\,helvetica\,sans-serif">&rsquo\;s &ldquo\;Art of Design Award\,&rdquo\; Schafer is a member of the Yale School of Architecture Dean&rsquo\;s Council\, a trustee of the Thomas Jefferson Foundation\, and served as president and then chairman of the Institute of Classical Architecture &amp\; Art for over a decade. He holds a Masters of Architecture from the Yale School of Architecture and is the author of the bestselling book&nbsp\;</span><span style="font-family:arial\,helvetica\,sans-serif"><em>The Great American House</em></span><span style="font-family:arial\,helvetica\,sans-serif">&nbsp\;and the newly released&nbsp\;</span><span style="font-family:arial\,helvetica\,sans-serif"><em>A Place&nbsp\;</em></span><span style="font-family:arial\,helvetica\,sans-serif"><em>to</em></span><span style="font-family:arial\,helvetica\,sans-serif"><em>&nbsp\;</em></span><span style="font-family:arial\,helvetica\,sans-serif"><em>Call</em></span><span style="font-family:arial\,helvetica\,sans-serif"><em>&nbsp\;</em></span><span style="font-family:arial\,helvetica\,sans-serif"><em>Home</em></span><span style="font-family:arial\,helvetica\,sans-serif">. Schafer&rsquo\;s work has been featured in numerous national and international publications\, including&nbsp\;</span><span style="font-family:arial\,helvetica\,sans-serif"><em>Architectural Digest\, Elle D&eacute\;cor\, Veranda\, The New York Times</em></span><span style="font-family:arial\,helvetica\,sans-serif">\, and&nbsp\;</span><span style="font-family:arial\,helvetica\,sans-serif"><em>The Wall Street Journal</em></span><span style="font-family:arial\,helvetica\,sans-serif">. When he&rsquo\;s not traveling for work\, Schafer divides his time between New York City\, upstate New York\, and Maine.</span></span></p>\n</div>\n
LOCATION:Ellsworth Antiques Show at Woodlawn\, 19 Black House Drive\, Ellsworth\, ME 04605
UID:e.3061.2512
SEQUENCE:3
DTSTAMP:20260420T182840Z
URL:https://www.visitbarharbor.com/events/details/lecture-and-book-signing-architect-gil-schafer-iii-2512
END:VEVENT

END:VCALENDAR
