BEGIN:VCALENDAR
VERSION:2.0
PRODID:-//ChamberMaster//Event Calendar 2.0//EN
METHOD:PUBLISH
X-PUBLISHED-TTL:P3D
REFRESH-INTERVAL:P3D
CALSCALE:GREGORIAN
BEGIN:VEVENT
DTSTART:20190804T190000Z
DTEND:20190805T000000Z
X-MICROSOFT-CDO-ALLDAYEVENT:FALSE
SUMMARY:Lawn Party
DESCRIPTION:A true celebration of vintage culture. This picnic features music\, lawn games\, prizes\, historic garden\, ruin tours\, and more! Pet-friendly.  August 3rd and 4th. 3-8pm.\n\n\n\nTo benefit the Mount Desert Island Preservation Society\n\n\n\nFor tickets\, eventbrite.com/e/lawn-party-tickets-65699770783
X-ALT-DESC;FMTTYPE=text/html:A true celebration of vintage culture. This picnic features music\, lawn games\, prizes\, historic garden\, ruin tours\, and more! Pet-friendly.&nbsp\; August 3rd and 4th. 3-8pm.<br />\n<br />\nTo benefit the Mount Desert Island Preservation Society<br />\n<br />\nFor tickets\,&nbsp\;<a href="http://eventbrite.com/e/lawn-party-tickets-65699770783" target="_blank">eventbrite.com/e/lawn-party-tickets-65699770783</a>
LOCATION:Farview Great Lawn 14 Highbrook Road Bar Harbor\, ME 04609
UID:e.3061.14340
SEQUENCE:3
DTSTAMP:20260419T211236Z
URL:https://www.visitbarharbor.com/events/details/lawn-party-08-04-2019-14340
END:VEVENT

END:VCALENDAR
