BEGIN:VCALENDAR
VERSION:2.0
PRODID:-//ChamberMaster//Event Calendar 2.0//EN
METHOD:PUBLISH
X-PUBLISHED-TTL:P3D
REFRESH-INTERVAL:P3D
CALSCALE:GREGORIAN
BEGIN:VEVENT
DTSTART:20181116T200000Z
DTEND:20181117T000000Z
X-MICROSOFT-CDO-ALLDAYEVENT:FALSE
SUMMARY:Lantern Making and Lantern Walk
DESCRIPTION:A lantern walk is an observance of the changing season. The lanterns represent the light that each of us carries inside to light up the dark days. Come to the Southwest Harbor Public Library to make a lantern between 3-5 pm. Supplies will be provided\, but if you have a tall wide mouth jar\, please bring it. The lantern walk will take place at 5:30 p.m. Participants will meet at the High Road parking lot in Southwest Harbor and walk down Causeway Lane with their lanterns lit. On the Causeway Bridge\, Jennifer Armstrong\, a beloved storyteller and musician from Belfast will tell a seasonal story. After the walk\, around 6:30 p.m.\, everyone is invited back to the Library for a simple meal of soup and bread. Please bring your own place setting. Also\, please call Susan Plimpton\, Children's Librarian\, if you can make soup or help in any way. This is a fun family event and all are welcome.
X-ALT-DESC;FMTTYPE=text/html:A lantern walk is an observance of the changing season. The lanterns represent the light that each of us carries inside to light up the dark days. Come to the Southwest Harbor Public Library to make a lantern between 3-5 pm. Supplies will be provided\, but if you have a tall wide mouth jar\, please bring it. The lantern walk will take place at 5:30 p.m. Participants will meet at the High Road parking lot in Southwest Harbor and walk down Causeway Lane with their lanterns lit. On the Causeway Bridge\, Jennifer Armstrong\, a beloved storyteller and musician from Belfast will tell a seasonal story. After the walk\, around 6:30 p.m.\, everyone is invited back to the Library for a simple meal of soup and bread. Please bring your own place setting. Also\, please call Susan Plimpton\, Children&rsquo\;s Librarian\, if you can make soup or help in any way. This is a fun family event and all are welcome.
LOCATION:Southwest Harbor Public Library
UID:e.3061.4506
SEQUENCE:3
DTSTAMP:20260420T112854Z
URL:https://www.visitbarharbor.com/events/details/lantern-making-and-lantern-walk-4506
END:VEVENT

END:VCALENDAR
