BEGIN:VCALENDAR
VERSION:2.0
PRODID:-//ChamberMaster//Event Calendar 2.0//EN
METHOD:PUBLISH
X-PUBLISHED-TTL:P3D
REFRESH-INTERVAL:P3D
CALSCALE:GREGORIAN
BEGIN:VEVENT
DTSTART;VALUE=DATE:20180922
DTEND;VALUE=DATE:20180923
TRANSP:TRANSPARENT
X-MICROSOFT-CDO-ALLDAYEVENT:TRUE
SUMMARY:Lace Up. Walk. Cure Cystic Fibrosis.
DESCRIPTION:Help Us Find a Cure. We've made incredible gains in the fight against cystic fibrosis\, but we still have a long way to go. \nFor 30 years\, Great Strides   the Cystic Fibrosis Foundation's largest national fundraising event   has supported the Foundation's mission to cure cystic fibrosis and raise awareness for this rare\, genetic\, life-shortening disease that makes it difficult to breathe and shortens lives.\n\nGreat Strides provides a fantastic opportunity for family\, friends\, students\, and colleagues to come together and make a difference in the lives of people with CF. The event harnesses the power of people with a shared vision and encourages collaboration\, team building\, and leadership\, as we collectively take steps to find a cure\n\nRegistration is free\, but walkers are encouraged to raise funds. Your support will help accelerate innovative research and drug development\, as well as advance care and advocacy. Nearly every CF drug was made possible by the Foundation and because of funds raised from Great Strides\, people with CF are living longer\, healthier lives and pursuing their dreams.\n\nWe are working every day to build on this incredible momentum\, and we won't stop until there is a cure for all people living with CF.\n\nSign up to walk in Great Strides today and join us as we take steps towards a cure.\n\nThe time is now. Together\, we can cross the finish line.\n\nLet's LACE UP. WALK. CURE CYSTIC FIBROSIS.
X-ALT-DESC;FMTTYPE=text/html:Help Us Find a Cure. We&rsquo\;ve made incredible gains in the fight against cystic fibrosis\, but we still have a long way to go.&nbsp\;\n<p>For 30 years\, Great Strides &ndash\; the Cystic Fibrosis Foundation&rsquo\;s largest national fundraising event &ndash\; has supported the Foundation&rsquo\;s mission to cure&nbsp\;<a href="https://www.cff.org/What-is-CF/About-Cystic-Fibrosis/" style="box-sizing: border-box\; color: rgb(9\, 160\, 207)\; text-decoration-line: none\; line-height: inherit\;">cystic fibrosis</a>&nbsp\;and raise awareness for this rare\, genetic\, life-shortening disease that makes it difficult to breathe and shortens lives.</p>\n\n<p>Great Strides provides a fantastic opportunity for family\, friends\, students\, and colleagues to come together and make a difference in the lives of people with CF. The event harnesses the power of people with a shared vision and encourages collaboration\, team building\, and leadership\, as we collectively take steps to find a cure</p>\n\n<p>Registration is free\, but walkers are encouraged to raise funds. Your support will help accelerate innovative research and drug development\, as well as advance care and advocacy. Nearly every CF drug was made possible by the Foundation and because of funds raised from Great Strides\, people with CF are living longer\, healthier lives and pursuing their dreams.</p>\n\n<p>We are working every day to build on this incredible momentum\, and we won&rsquo\;t stop until there is a cure for all people living with CF.</p>\n\n<p>Sign up to walk in Great Strides today and join us as we take steps towards a cure.</p>\n\n<p>The time is now. Together\, we can cross the finish line.</p>\n\n<p>Let&rsquo\;s LACE UP. WALK. CURE CYSTIC FIBROSIS.&nbsp\;</p>\n
LOCATION:Conners-Emerson School Bar Harbor\, ME - Acadia Natl. Park
UID:e.3061.3845
SEQUENCE:3
DTSTAMP:20260420T151330Z
URL:https://www.visitbarharbor.com/events/details/lace-up-walk-cure-cystic-fibrosis-3845
END:VEVENT

END:VCALENDAR
