BEGIN:VCALENDAR
VERSION:2.0
PRODID:-//ChamberMaster//Event Calendar 2.0//EN
METHOD:PUBLISH
X-PUBLISHED-TTL:P3D
REFRESH-INTERVAL:P3D
CALSCALE:GREGORIAN
BEGIN:VEVENT
DTSTART:20190505T200000Z
DTEND:20190505T230000Z
X-MICROSOFT-CDO-ALLDAYEVENT:FALSE
SUMMARY:Knitters\, spinners\, Felters\, thread workers FIBER DROP IN!
DESCRIPTION:If you use fibers on projects\n\ndrop in with what you are working on- Friendly fellow Fiber artists of all abilities and many media gather informally at ArtWaves on Sunday afternoons\,\n\nin the fine arts studio. \n\nAll are welcome- 4-7pm.\n\nno fee\, no need to register- bring a friend-\n\nDonations welcome
X-ALT-DESC;FMTTYPE=text/html:If you use fibers on projects<br />\ndrop in with what you are working on- Friendly fellow Fiber artists of all abilities and many media gather informally at ArtWaves on Sunday afternoons\,<br />\nin the fine arts studio.&nbsp\;<br />\nAll are welcome- 4-7pm.<br />\nno fee\, no need to register- bring a friend-<br />\nDonations welcome&nbsp\;
LOCATION:ArtWaves 1345 State highway 102 Village of Town Hill Bar Harbor\, ME
UID:e.3061.8975
SEQUENCE:3
DTSTAMP:20260420T023730Z
URL:https://www.visitbarharbor.com/events/details/knitters-spinners-felters-thread-workers-fiber-drop-in-8975
END:VEVENT

END:VCALENDAR
