BEGIN:VCALENDAR
VERSION:2.0
PRODID:-//ChamberMaster//Event Calendar 2.0//EN
METHOD:PUBLISH
X-PUBLISHED-TTL:P3D
REFRESH-INTERVAL:P3D
CALSCALE:GREGORIAN
BEGIN:VEVENT
DTSTART:20190917T220000Z
DTEND:20190918T000000Z
X-MICROSOFT-CDO-ALLDAYEVENT:FALSE
SUMMARY:Kippy Stroud Artist Residency Public Lecture
DESCRIPTION:The inaugural guests of the College of the Atlantic Kippy Stroud Artist-in-Residence Program will screen their video work and talk about their artistic process at the first College of the Atlantic Human Ecology Forum of the Fall 2019 term. Mary Reid Kelley and Patrick Kelley combine painting\, performance\, and a distinctive wordplay-rich poetry in their polemical\, graphically stylized videos. Their work has been shown in solo exhibitions at Tate Liverpool\, the Baltimore Museum of Art\, The High Line\, Kunsthalle Bremen\, the Hammer Museum\, the ICA Boston\, and SITE Santa Fe. Mary and Patrick will screen "In the Body of the Sturgeon" (2017)\, which premiered at Tate Liverpool. For the entire month of September the pair will occupy the COA Ethel H. Blum Gallery with the tools and activities of their art making.
X-ALT-DESC;FMTTYPE=text/html:The inaugural guests of the College of the Atlantic Kippy Stroud Artist-in-Residence Program will screen their video work and talk about their artistic process at the first College of the Atlantic Human Ecology Forum of the Fall 2019 term. Mary Reid Kelley and Patrick Kelley combine painting\, performance\, and a distinctive wordplay-rich poetry in their polemical\, graphically stylized videos. Their work has been shown in solo exhibitions at Tate Liverpool\, the Baltimore Museum of Art\, The High Line\, Kunsthalle Bremen\, the Hammer Museum\, the ICA Boston\, and SITE Santa Fe. Mary and Patrick will screen &ldquo\;In the Body of the Sturgeon&rdquo\; (2017)\, which premiered at Tate Liverpool. For the entire month of September the pair will occupy the COA Ethel H. Blum Gallery with the tools and activities of their art making.
LOCATION:Thomas S. Gates\, Jr. Community Center College of the Atlantic
UID:e.3061.14500
SEQUENCE:3
DTSTAMP:20260419T192641Z
URL:https://www.visitbarharbor.com/events/details/kippy-stroud-artist-residency-public-lecture-14500
END:VEVENT

END:VCALENDAR
