BEGIN:VCALENDAR
VERSION:2.0
PRODID:-//ChamberMaster//Event Calendar 2.0//EN
METHOD:PUBLISH
X-PUBLISHED-TTL:P3D
REFRESH-INTERVAL:P3D
CALSCALE:GREGORIAN
BEGIN:VEVENT
DTSTART:20180721T160000Z
DTEND:20180721T200000Z
X-MICROSOFT-CDO-ALLDAYEVENT:FALSE
SUMMARY:Kids Day
DESCRIPTION:Games\n	Remote controlled car races\n	Demonstrations\n	Noise-making & explosions\n	Tasty treats to eat\n	Rides in antique autos\, weather permitting\n	Kids 12 and under get in free!
X-ALT-DESC;FMTTYPE=text/html:<ul>\n	<li>Games</li>\n	<li>Remote controlled car races</li>\n	<li>Demonstrations</li>\n	<li>Noise-making &amp\; explosions</li>\n	<li>Tasty treats to eat</li>\n	<li>Rides in antique autos\, weather permitting</li>\n	<li>Kids 12 and under get in free!</li>\n</ul>\n
LOCATION:Seal Cove Auto Museum
UID:e.3061.3023
SEQUENCE:3
DTSTAMP:20260420T182353Z
URL:https://www.visitbarharbor.com/events/details/kids-day-3023
END:VEVENT

END:VCALENDAR
