BEGIN:VCALENDAR
VERSION:2.0
PRODID:-//ChamberMaster//Event Calendar 2.0//EN
METHOD:PUBLISH
X-PUBLISHED-TTL:P3D
REFRESH-INTERVAL:P3D
CALSCALE:GREGORIAN
BEGIN:VEVENT
DTSTART:20180616T130000Z
DTEND:20180616T200000Z
X-MICROSOFT-CDO-ALLDAYEVENT:FALSE
SUMMARY:Kennebec River High Water Whitewater Rafting Trip
DESCRIPTION:Save 25% off whitewater rafting Maine's 1st high water rafting release of the 2018 season with Northeast Whitewater rafting on the Kennebec River\, Saturday June 16!\n\nThis is an adventurous whitewater rafting trip.  Grilled riverside BBQ\, all equipment\, transportation to and from the river included.  Adventurous whitewater enthusiasts need to get on this rafting trip!  \n\nPackage with our yurts\, camping or lakeside motel.
X-ALT-DESC;FMTTYPE=text/html:Save 25% off whitewater rafting Maine&#39\;s 1st <a href="https://northeastwhitewater.com/whitewater/rafting-trips/high-water-rafting/">high water rafting release</a> of the 2018 season with Northeast Whitewater rafting on the Kennebec River\, Saturday June 16!<br />\nThis is an adventurous whitewater rafting trip. &nbsp\;Grilled riverside BBQ\, all equipment\, transportation to and from the river included. &nbsp\;Adventurous whitewater enthusiasts need to get on this rafting trip! &nbsp\;<br />\nPackage with our yurts\, camping or lakeside motel.
LOCATION:Northeast Whitewater 155 Greenville Road Shirley Mills\, Maine 04485
UID:e.3061.2483
SEQUENCE:3
DTSTAMP:20260420T200046Z
URL:https://www.visitbarharbor.com/events/details/kennebec-river-high-water-whitewater-rafting-trip-2483
END:VEVENT

END:VCALENDAR
