BEGIN:VCALENDAR
VERSION:2.0
PRODID:-//ChamberMaster//Event Calendar 2.0//EN
METHOD:PUBLISH
X-PUBLISHED-TTL:P3D
REFRESH-INTERVAL:P3D
CALSCALE:GREGORIAN
BEGIN:VEVENT
DTSTART:20191001T010000Z
DTEND:20191001T030000Z
X-MICROSOFT-CDO-ALLDAYEVENT:FALSE
SUMMARY:Karaoke Monday's
DESCRIPTION:Join us for Karaoke fun every Monday night at 9 pm at Bar Harbor BeerWorks. Drink specials and lots of fun!
X-ALT-DESC;FMTTYPE=text/html:Join us for Karaoke fun every Monday night at 9 pm at Bar Harbor BeerWorks. Drink specials and lots of fun!
LOCATION:Bar Harbor BeerWorks 119 Main St Bar Harbor
UID:e.3061.11463
SEQUENCE:3
DTSTAMP:20260419T230803Z
URL:https://www.visitbarharbor.com/events/details/karaoke-monday-s-09-30-2019-11463
END:VEVENT

END:VCALENDAR
