BEGIN:VCALENDAR
VERSION:2.0
PRODID:-//ChamberMaster//Event Calendar 2.0//EN
METHOD:PUBLISH
X-PUBLISHED-TTL:P3D
REFRESH-INTERVAL:P3D
CALSCALE:GREGORIAN
BEGIN:VEVENT
DTSTART:20180704T110000Z
DTEND:20180704T200000Z
X-MICROSOFT-CDO-ALLDAYEVENT:FALSE
SUMMARY:July 4th Around MDI Relay
DESCRIPTION:Join us for the 16th running of the July 4th Around Mount Desert Island Relay\, hosted by Crow Athletics. Featured in Runner's World Magazine\, the 100-kilometer (62-mile) route circles world famous Mount Desert Island while touching every town and village including many scenic seaside areas. Many teams come out to chase leg and course records\, while others don costumes and enjoy the holiday camaraderie! (Legs 2\, 3\, & 4 follow the entire award-winning Mount Desert Island Marathon route.)\n\n\n\nMore information & registration: http://aroundmdirelay.crowathletics.com/\n\nFollow us on Facebook & Twitter   Instagram
X-ALT-DESC;FMTTYPE=text/html:<span style="color:rgb(34\, 34\, 34)\; font-family:arial\,verdana\,sans-serif\; font-size:12px">Join us for the 16th running of the&nbsp\;</span><a href="http://aroundmdirelay.crowathletics.com/" style="font-family: Arial\, Verdana\, sans-serif\; font-size: 12px\;" target="_blank">July 4th Around Mount Desert Island Relay</a><span style="color:rgb(34\, 34\, 34)\; font-family:arial\,verdana\,sans-serif\; font-size:12px">\, hosted by</span><strong>&nbsp\;</strong><a href="http://crowathletics.com/" style="font-family: Arial\, Verdana\, sans-serif\; font-size: 12px\;" target="_blank">Crow Athletics</a><span style="color:rgb(34\, 34\, 34)\; font-family:arial\,verdana\,sans-serif\; font-size:12px">. Featured in&nbsp\;</span><a href="http://crowathletics.com/s/runners_world-july_4th_around_mdi_relay-barbie_batons.jpg" style="font-family: Arial\, Verdana\, sans-serif\; font-size: 12px\;" target="_blank"><em>Runner&#39\;s World Magazine</em></a><span style="color:rgb(34\, 34\, 34)\; font-family:arial\,verdana\,sans-serif\; font-size:12px">\, the 100-kilometer (62-mile) route circles world famous Mount Desert Island while touching every town and village including many scenic seaside areas. Many teams come out to chase leg and course records\, while others don costumes and enjoy the holiday camaraderie! (Legs 2\, 3\, &amp\; 4 follow the entire award-winning&nbsp\;</span><a href="http://runmdi.org/" style="font-family: Arial\, Verdana\, sans-serif\; font-size: 12px\;" target="_blank">Mount Desert Island Marathon</a><span style="color:rgb(34\, 34\, 34)\; font-family:arial\,verdana\,sans-serif\; font-size:12px">&nbsp\;route.)</span><br />\n<br />\n<span style="color:rgb(34\, 34\, 34)\; font-family:arial\,verdana\,sans-serif\; font-size:12px">More information &amp\; registration:&nbsp\;</span><a href="http://aroundmdirelay.crowathletics.com/" style="font-family: Arial\, Verdana\, sans-serif\; font-size: 12px\;" target="_blank">http://aroundmdirelay.crowathletics.com/</a><br />\n<span style="color:rgb(34\, 34\, 34)\; font-family:arial\,verdana\,sans-serif\; font-size:12px">Follow us on&nbsp\;</span><a href="http://www.facebook.com/crowathletics" style="font-family: Arial\, Verdana\, sans-serif\; font-size: 12px\;" target="_blank">Facebook</a><span style="color:rgb(34\, 34\, 34)\; font-family:arial\,verdana\,sans-serif\; font-size:12px">&nbsp\;&amp\;&nbsp\;</span><a href="http://twitter.com/crowathletics" style="font-family: Arial\, Verdana\, sans-serif\; font-size: 12px\;" target="_blank">Twitter</a><span style="color:rgb(34\, 34\, 34)\; font-family:arial\,verdana\,sans-serif\; font-size:12px">&nbsp\;&bull\;&nbsp\;</span><a href="http://www.instagram.com/crowathletics/" style="font-family: Arial\, Verdana\, sans-serif\; font-size: 12px\;" target="_blank">Instagram</a>
LOCATION:Mainely Meat BBQ 369 State Highway 3\, Bar Harbor\, ME 04609
UID:e.3061.820
SEQUENCE:3
DTSTAMP:20260420T182511Z
URL:https://www.visitbarharbor.com/events/details/july-4th-around-mdi-relay-820
END:VEVENT

END:VCALENDAR
