BEGIN:VCALENDAR
VERSION:2.0
PRODID:-//ChamberMaster//Event Calendar 2.0//EN
METHOD:PUBLISH
X-PUBLISHED-TTL:P3D
REFRESH-INTERVAL:P3D
CALSCALE:GREGORIAN
BEGIN:VEVENT
DTSTART:20180606T230000Z
DTEND:20180607T003000Z
X-MICROSOFT-CDO-ALLDAYEVENT:FALSE
SUMMARY:Judy Garland: Moments of Magic by Lawrence Schulman
DESCRIPTION:Award-winning music producer\, critic and translator Lawrence Schulman\, who lives on Mount Desert Island\, will give a talk on Judy Garland\, entitled "Moments of Magic\," at Jesup Memorial Library in Bar Harbor\, Maine on Wednesday\, June 6\, 2018 at 7 P.M. The one-and-a-quarter hour talk will examine Garland's life and career\, and feature nine audio-video clips\, to be followed by a question and answer. Schulman will endeavor to answer the question: "If I had about one hour to convince you of Judy Garland's place in classic American popular music\, what film and television performances would I choose?" Admission is free.
X-ALT-DESC;FMTTYPE=text/html:<span style="color:rgb(34\, 34\, 34)\; font-family:arial\,verdana\,sans-serif\; font-size:12px">Award-winning music producer\, critic and translator Lawrence Schulman\, who lives on Mount Desert Island\, will give a talk on Judy Garland\, entitled &ldquo\;Moments of Magic\,&rdquo\; at Jesup Memorial Library in Bar Harbor\, Maine on Wednesday\, June 6\, 2018 at 7 P.M. The one-and-a-quarter hour talk will examine Garland&rsquo\;s life and career\, and feature nine audio-video clips\, to be followed by a question and answer. Schulman will endeavor to answer the question: &ldquo\;If I had about one hour to convince you of Judy Garland&rsquo\;s place in classic American popular music\, what film and television performances would I choose?&rdquo\; Admission is free.</span>
LOCATION:Jesup Memorial Library\, 34 Mt. Desert Street\, Bar Harbor\, Maine 04609
UID:e.3061.819
SEQUENCE:3
DTSTAMP:20260420T200403Z
URL:https://www.visitbarharbor.com/events/details/judy-garland-moments-of-magic-by-lawrence-schulman-819
END:VEVENT

END:VCALENDAR
