BEGIN:VCALENDAR
VERSION:2.0
PRODID:-//ChamberMaster//Event Calendar 2.0//EN
METHOD:PUBLISH
X-PUBLISHED-TTL:P3D
REFRESH-INTERVAL:P3D
CALSCALE:GREGORIAN
BEGIN:VEVENT
DTSTART:20181113T143000Z
DTEND:20181113T163000Z
X-MICROSOFT-CDO-ALLDAYEVENT:FALSE
SUMMARY:"Joy Riding" with Island Connections
DESCRIPTION:"Joy Riding" with Island Connections Tuesday\, November 13\, 9:30-11:30 am Island Connections is a local non-profit located in Bar Harbor that has been providing free transportation for seniors and people with disabilities on Mount Desert Island and the surrounding islands for over 21 years. Come to the Library for coffee\, pastry\, and discussion about how to become a volunteer driver with Island Connections!
X-ALT-DESC;FMTTYPE=text/html:&ldquo\;Joy Riding&rdquo\; with Island Connections Tuesday\, November 13\, 9:30-11:30 am Island Connections is a local non-profit located in Bar Harbor that has been providing free transportation for seniors and people with disabilities on Mount Desert Island and the surrounding islands for over 21 years. Come to the Library for coffee\, pastry\, and discussion about how to become a volunteer driver with Island Connections!
LOCATION:Southwest Harbor Public Library
UID:e.3061.4505
SEQUENCE:3
DTSTAMP:20260420T115326Z
URL:https://www.visitbarharbor.com/events/details/joy-riding-with-island-connections-11-13-2018-4505
END:VEVENT

END:VCALENDAR
