BEGIN:VCALENDAR
VERSION:2.0
PRODID:-//ChamberMaster//Event Calendar 2.0//EN
METHOD:PUBLISH
X-PUBLISHED-TTL:P3D
REFRESH-INTERVAL:P3D
CALSCALE:GREGORIAN
BEGIN:VEVENT
DTSTART:20190312T120000Z
DTEND:20190312T180000Z
X-MICROSOFT-CDO-ALLDAYEVENT:FALSE
SUMMARY:Job Fair - Witham Family Hotels
DESCRIPTION:Are YOU looking for a great job in the hospitality industry?\n\n\n\nWe are looking for YOU!\n\n\n\nWitham Family Hotels is one of Downeast  Maine's largest hospitality employers operating 12 hotels in the Acadia area. Our properties include:\n\nBar Harbor Inn\, Atlantic Oceanside Hotel & Event Center\, Bar Harbor Hampton Inn\, Acadia Inn\, Bar Harbor Motel\, Hampton Inn Ellsworth\, Ramada Ellsworth\, Bar Harbor Villager Motel\, Quality Inn Bar Harbor\, Comfort Inn Ellsworth\, Best Western Acadia Park Inn\, Bar Harbor Grand and the Bar Harbor Laundry Company.\n\n\n\nWe are currently hiring:\n\n  Front Desk Associates\n\n  Reservations Associates\n\n  Hotel Night Auditors\n\n  Continental Breakfast Attendants\n\n  Housekeepers\n\n  Matrons\n\n  Bellhops\n\n  Laundry Attendants\n\n  Maintenance\n\n  Groundskeeping\n\n  Bartenders\n\n  Servers (Restaurant & Banquet)\n\n  Dishwashers/Bussers\n\n  Prep and Line Cooks\n\n\n\nWe offer Competitive Wages and Benefits.
X-ALT-DESC;FMTTYPE=text/html:Are YOU looking for a great job in the hospitality industry?<br />\n<br />\nWe are looking for YOU!<br />\n<br />\nWitham Family Hotels is one of Downeast&nbsp\; Maine&rsquo\;s largest hospitality employers operating 12 hotels in the Acadia area. Our properties include:<br />\nBar Harbor Inn\, Atlantic Oceanside Hotel &amp\; Event Center\, Bar Harbor Hampton Inn\, Acadia Inn\, Bar Harbor Motel\, Hampton Inn Ellsworth\, Ramada Ellsworth\, Bar Harbor Villager&nbsp\;Motel\, Quality Inn Bar Harbor\, Comfort&nbsp\;Inn Ellsworth\, Best Western Acadia Park Inn\, Bar Harbor Grand and the Bar Harbor Laundry Company.<br />\n<br />\nWe are currently hiring:<br />\n&bull\; Front Desk Associates<br />\n&bull\; Reservations Associates<br />\n&bull\; Hotel Night Auditors<br />\n&bull\; Continental Breakfast Attendants<br />\n&bull\; Housekeepers<br />\n&bull\; Matrons<br />\n&bull\; Bellhops<br />\n&bull\; Laundry Attendants<br />\n&bull\; Maintenance<br />\n&bull\; Groundskeeping<br />\n&bull\; Bartenders<br />\n&bull\; Servers (Restaurant &amp\; Banquet)<br />\n&bull\; Dishwashers/Bussers<br />\n&bull\; Prep and Line Cooks<br />\n<br />\nWe offer Competitive&nbsp\;Wages and Benefits.
LOCATION:Ramada Ellsworth 215 High St. Ellsworth\, ME 04605
UID:e.3061.5150
SEQUENCE:3
DTSTAMP:20260420T044939Z
URL:https://www.visitbarharbor.com/events/details/job-fair-witham-family-hotels-5150
END:VEVENT

END:VCALENDAR
