BEGIN:VCALENDAR
VERSION:2.0
PRODID:-//ChamberMaster//Event Calendar 2.0//EN
METHOD:PUBLISH
X-PUBLISHED-TTL:P3D
REFRESH-INTERVAL:P3D
CALSCALE:GREGORIAN
BEGIN:VEVENT
DTSTART:20191002T180000Z
DTEND:20191002T220000Z
X-MICROSOFT-CDO-ALLDAYEVENT:FALSE
SUMMARY:Job Fair at Birch Bay Retirement Village
DESCRIPTION:Fall Job Fair\n\nBirch Bay Retirement Village & Mount Desert Island Hospital are hiring. On the job training available. No experience necessary!
X-ALT-DESC;FMTTYPE=text/html:Fall Job Fair<br />\nBirch Bay Retirement Village &amp\;&nbsp\;Mount Desert Island Hospital are hiring. On the job training available. No experience necessary!
LOCATION:Birch Bay Retirement Village 25 Village Inn Road Bar Harbor\, Maine 04609
UID:e.3061.14808
SEQUENCE:3
DTSTAMP:20260419T160055Z
URL:https://www.visitbarharbor.com/events/details/job-fair-at-birch-bay-retirement-village-14808
END:VEVENT

END:VCALENDAR
