BEGIN:VCALENDAR
VERSION:2.0
PRODID:-//ChamberMaster//Event Calendar 2.0//EN
METHOD:PUBLISH
X-PUBLISHED-TTL:P3D
REFRESH-INTERVAL:P3D
CALSCALE:GREGORIAN
BEGIN:VEVENT
DTSTART:20190411T140000Z
DTEND:20190411T180000Z
X-MICROSOFT-CDO-ALLDAYEVENT:FALSE
SUMMARY:Jesup Memorial Library Historical Building Tours
DESCRIPTION:Celebrate National Library Week with programs at the Jesup Memorial Library. National Library Week is a nationwide celebration of libraries happening this year between Sunday\, April 7 and Saturday\, April 13. \n\n \n\nOn Thursday\, April 11 between 10 a.m. and 2 p.m.\, join Jesup board member Mike Hastings as he offers guided tours of the library. Hastings has been studying the history of the building and will show you some of the hidden nooks and that are often not open to the public. If you want to see what is in the attic or what the lower rotunda looks like this is your chance.\n\n\n\nFor more information contact the Jesup at 207-288-4245.
X-ALT-DESC;FMTTYPE=text/html:<span style="font-family:times new roman\,serif"><span style="font-size:14.0pt">Celebrate National Library Week with programs at the Jesup Memorial Library. National Library Week is a nationwide celebration of libraries happening this year between Sunday\, April 7 and Saturday\, April 13. </span></span><br />\n&nbsp\;<br />\n<span style="font-family:times new roman\,serif"><span style="font-size:14.0pt">On Thursday\, April 11 between 10 a.m. and 2 p.m.\, join Jesup board member Mike Hastings as he offers guided tours of the library. Hastings has been studying the history of the building and will show you some of the hidden nooks and that are often not open to the public. If you want to see what is in the attic or what the lower rotunda looks like this is your chance.<br />\n<br />\nFor more information contact the Jesup at 207-288-4245.&nbsp\;</span></span><br />\n&nbsp\;
LOCATION:Jesup Memorial Library\, 34 Mt. Desert St.\, Bar Harbor\, ME 04609
UID:e.3061.8825
SEQUENCE:3
DTSTAMP:20260420T043440Z
URL:https://www.visitbarharbor.com/events/details/jesup-memorial-library-historical-building-tours-8825
END:VEVENT

END:VCALENDAR
