BEGIN:VCALENDAR
VERSION:2.0
PRODID:-//ChamberMaster//Event Calendar 2.0//EN
METHOD:PUBLISH
X-PUBLISHED-TTL:P3D
REFRESH-INTERVAL:P3D
CALSCALE:GREGORIAN
BEGIN:VEVENT
DTSTART:20180821T170000Z
DTEND:20180825T180000Z
X-MICROSOFT-CDO-ALLDAYEVENT:FALSE
SUMMARY:Jesup Memorial Library Book Sale Continues!
DESCRIPTION:The Jesup Library Annual Book Sale Continues thru August 25th! There are thousands of hardcover\, trade paperbacks\, and regular paperbacks for sale as well as records\, puzzles\, cd's\, dvd's\, and videos. We also have some beautiful yarns and other odd's and end's that might be of interest. This is a major fundraiser for the Jesup Library. All sales are by donation and all proceeds support the library's programs and day to day operations.
X-ALT-DESC;FMTTYPE=text/html:The Jesup Library Annual Book Sale Continues thru August 25th! There are thousands of hardcover\, trade paperbacks\, and regular paperbacks for sale as well as records\, puzzles\, cd&#39\;s\, dvd&#39\;s\, and videos. We also have some beautiful yarns and other odd&#39\;s and end&#39\;s that might be of interest. This is a major fundraiser for the Jesup Library. All sales are by donation and all proceeds support the library&#39\;s programs and day to day operations.
LOCATION:Jesup Memorial Library 34 Mount Desert Street Bar Harbor\, ME 04609
UID:e.3061.3735
SEQUENCE:3
DTSTAMP:20260420T183039Z
URL:https://www.visitbarharbor.com/events/details/jesup-memorial-library-book-sale-continues-3735
END:VEVENT

END:VCALENDAR
