BEGIN:VCALENDAR
VERSION:2.0
PRODID:-//ChamberMaster//Event Calendar 2.0//EN
METHOD:PUBLISH
X-PUBLISHED-TTL:P3D
REFRESH-INTERVAL:P3D
CALSCALE:GREGORIAN
BEGIN:VEVENT
DTSTART:20180818T120000Z
DTEND:20180818T200000Z
X-MICROSOFT-CDO-ALLDAYEVENT:FALSE
SUMMARY:Jesup Memorial Library 49th Annual Book Sale
DESCRIPTION:The Jesup Memorial Library's 49th Annual Book Sale is right around the corner! Join the library on Saturday\, Aug. 18 from 9 a.m. to 4 p.m. to browse thousands of books\, grab a baked good\, take a chance on the raffle and bid on a silent auction item.\n\n \n\nThere is a big change this year to the book pricing\, with the exception of books in the "Specials" room\, all book sales are by donation. That means that nothing will be individually priced except the items deemed to be "Specials." Instead\, you make a donation of your choice to the Jesup for the books you choose. "Many libraries have been very successful switching to a donation-based book sale\," said Library Director Ruth A. Eveland. "We hope that everyone appreciates that this is a major fundraiser for the Jesup and will support it fully."\n\n \n\nYou can also shop the book sale a day early and beat the crowds at the Prologue Sale the night before on Friday\, Aug. 17 from 4:30 to 7 p.m. There will be music from the Beech Mountain Project\, food and drinks. Tickets to this special event are $25 each and can be purchased at the library\, online at www.jesuplibrary.org/prologue or by calling 207-288-4245. \n\n \n\nAnd the book sale would not be a success without the help of the countless volunteers who help move books\, set up and work the day of the sale. If you can help out before\, after or during the sale\, stop by the Jesup or call 207-288-4245 to sign up.
X-ALT-DESC;FMTTYPE=text/html:<span style="font-family:times new roman\,serif"><span style="font-size:14.0pt">The Jesup Memorial Library&rsquo\;s 49<sup>th</sup> Annual Book Sale is right around the corner! Join the library on Saturday\, Aug. 18 from 9 a.m. to 4 p.m. to browse thousands of books\, grab a baked good\, take a chance on the raffle and bid on a silent auction item.</span></span><br />\n&nbsp\;<br />\n<span style="font-family:times new roman\,serif"><span style="font-size:14.0pt">There is a big change this year to the book pricing\, with the exception of books in the &ldquo\;Specials&rdquo\; room\, all book sales are by donation. That means that nothing will be individually priced except the items deemed to be &ldquo\;Specials.&rdquo\; Instead\, you make a donation of your choice to the Jesup for the books you choose. &ldquo\;Many libraries have been very successful switching to a donation-based book sale\,&rdquo\; said Library Director Ruth A. Eveland. &ldquo\;We hope that everyone appreciates that this is a major fundraiser for the Jesup and will support it fully.&rdquo\;</span></span><br />\n&nbsp\;<br />\n<span style="font-family:times new roman\,serif"><span style="font-size:14.0pt">You can also shop the book sale a day early and beat the crowds at the Prologue Sale the night before on Friday\, Aug. 17 from 4:30 to 7 p.m. There will be music from the Beech Mountain Project\, food and drinks. Tickets to this special event are $25 each and can be purchased at the library\, online at <a href="http://www.jesuplibrary.org/prologue">www.jesuplibrary.org/prologue</a></span> or by calling 207-288-4245. </span><br />\n&nbsp\;<br />\n<span style="font-family:times new roman\,serif"><span style="font-size:14.0pt">And the book sale would not be a success without the help of the countless volunteers who help move books\, set up and work the day of the sale. If you can help out before\, after or during the sale\, stop by the Jesup or call <span class="gc-cs-link" id="gc-number-0" title="Call with Google Voice">207-288-4245</span> to sign up.</span></span>
LOCATION:Jesup Memorial Library\, 34 Mt. Desert St.\, Bar Harbor\, ME 04609
UID:e.3061.3516
SEQUENCE:3
DTSTAMP:20260420T170349Z
URL:https://www.visitbarharbor.com/events/details/jesup-memorial-library-49th-annual-book-sale-3516
END:VEVENT

END:VCALENDAR
