BEGIN:VCALENDAR
VERSION:2.0
PRODID:-//ChamberMaster//Event Calendar 2.0//EN
METHOD:PUBLISH
X-PUBLISHED-TTL:P3D
REFRESH-INTERVAL:P3D
CALSCALE:GREGORIAN
BEGIN:VEVENT
DTSTART:20190428T180000Z
DTEND:20190428T190000Z
X-MICROSOFT-CDO-ALLDAYEVENT:FALSE
SUMMARY:Jazzy Blues and Bluesy Jazz
DESCRIPTION:Join the Phil Kell Quartet for the last Sundays at the Jesup Winter Concert Series of 2019. The group will be playing jazzy blues and bluesy jazz on Sunday\, April 28 at 2 p.m. \n\n \n\nKell\, who plays the bass\, guitar\, piano and mandolin\, will play a selection of original tunes inspired by the jazz standards and popular songs from the first half of the 20th century.  He will be joined by Tom Karnofsky on bass\, Stephen Bowman on guitar\, and Jim Coffman on fiddle and mandolin.\n\n \n\nThis concert is free and open to the public. Doors open at 1:30 p.m. and seating is first come\, first served. For more information on this event\, contact the Jesup at 207-288-4245 or mrice@jesuplibrary.org
X-ALT-DESC;FMTTYPE=text/html:<span style="font-family:times new roman\,serif"><span style="font-size:14.0pt">Join the Phil Kell Quartet for the last Sundays at the Jesup Winter Concert Series of 2019. The group will be playing jazzy blues and bluesy jazz on Sunday\, April 28 at 2 p.m. </span></span><br />\n&nbsp\;<br />\n<span style="font-family:times new roman\,serif"><span style="font-size:14.0pt">Kell\, who plays the bass\, guitar\, piano and mandolin\, will play a selection of original tunes inspired by the jazz standards and popular songs from the first half of the 20th century.&nbsp\; He will be joined by Tom Karnofsky on bass\, Stephen Bowman on guitar\, and Jim Coffman on fiddle and mandolin.</span></span><br />\n&nbsp\;<br />\n<span style="font-family:times new roman\,serif"><span style="font-size:14.0pt">This concert is free and open to the public. Doors open at 1:30 p.m. and seating is first come\, first served. For more information on this event\, contact the Jesup at 207-288-4245 or <a href="mailto:mrice@jesuplibrary.org">mrice@jesuplibrary.org</a></span></span>
LOCATION:Jesup Memorial Library\, 34 Mt. Desert St.\, Bar Harbor\, ME 04069
UID:e.3061.8875
SEQUENCE:3
DTSTAMP:20260420T023945Z
URL:https://www.visitbarharbor.com/events/details/jazzy-blues-and-bluesy-jazz-8875
END:VEVENT

END:VCALENDAR
