BEGIN:VCALENDAR
VERSION:2.0
PRODID:-//ChamberMaster//Event Calendar 2.0//EN
METHOD:PUBLISH
X-PUBLISHED-TTL:P3D
REFRESH-INTERVAL:P3D
CALSCALE:GREGORIAN
BEGIN:VEVENT
DTSTART:20190919T190000Z
DTEND:20190919T210000Z
X-MICROSOFT-CDO-ALLDAYEVENT:FALSE
SUMMARY:JAX Job Fair!
DESCRIPTION:
X-ALT-DESC;FMTTYPE=text/html:
LOCATION:600 Main St. Bar Harbor\, ME 04609 Turn left after the blinking light at JAX. Park in our Visitor's Parking Lot and enter through the Main Entrance we'll be set up in the lobby.
UID:e.3061.14796
SEQUENCE:3
DTSTAMP:20260419T230302Z
URL:https://www.visitbarharbor.com/events/details/jax-job-fair-14796
END:VEVENT

END:VCALENDAR
