BEGIN:VCALENDAR
VERSION:2.0
PRODID:-//ChamberMaster//Event Calendar 2.0//EN
METHOD:PUBLISH
X-PUBLISHED-TTL:P3D
REFRESH-INTERVAL:P3D
CALSCALE:GREGORIAN
BEGIN:VEVENT
DTSTART:20191030T220000Z
DTEND:20191031T000000Z
X-MICROSOFT-CDO-ALLDAYEVENT:FALSE
SUMMARY:Ivy Manor House of Horrors
DESCRIPTION:It will be dark. It will be frightful. Walk through our historical Inn and see what nightmares await! \n\n\n\nThis is a fundraiser for the Jesup Memorial Library. $5 suggested donation. All $ collected will go to the Jesup. \n\n\n\nThis is haunted house is designed for adults. Please use your best judgement when bringing children. Children under the age of 12 must be accompanied by an adult.
X-ALT-DESC;FMTTYPE=text/html:It will be dark. It will be frightful. Walk through our historical Inn and see what nightmares await!&nbsp\;<br />\n<br />\nThis is a fundraiser for the Jesup Memorial Library. $5 suggested donation. All $ collected will go to the Jesup.&nbsp\;<br />\n<br />\nThis is haunted house is designed for adults. Please use your best judgement when bringing children. Children under the age of 12 must be accompanied by an adult.&nbsp\;
LOCATION:Ivy Manor Inn 194 Main Street Bar Harbor\, Maine
UID:e.3061.16260
SEQUENCE:3
DTSTAMP:20260419T160216Z
URL:https://www.visitbarharbor.com/events/details/ivy-manor-house-of-horrors-10-30-2019-16260
END:VEVENT

END:VCALENDAR
