BEGIN:VCALENDAR
VERSION:2.0
PRODID:-//ChamberMaster//Event Calendar 2.0//EN
METHOD:PUBLISH
X-PUBLISHED-TTL:P3D
REFRESH-INTERVAL:P3D
CALSCALE:GREGORIAN
BEGIN:VEVENT
DTSTART:20180813T140000Z
DTEND:20180813T190000Z
X-MICROSOFT-CDO-ALLDAYEVENT:FALSE
SUMMARY:Islesford Fair
DESCRIPTION:The Islesford Fair on Little Cranberry Island will be held on Monday August 7th from 10am to 3pm. This year's fair will feature: A White Elephant\, Great Food\, Bounce House\, Kids Games\, Races\, Live Music\, Toys\, Furniture\, Antiques\, Art\, Used Clothing\, Boatbuilding Demonstration\, Islesford Historical Society Publications\, Baked Goods\, Local Islesford Goods\, a 2 on 2 Basketball Tournament and more. All proceeds from the fair go directly to island organizations\, including Islesford Volunteer Fire Department\, Islesford Historical Society\, Islesford Boatworks\, and the Islesford Neighborhood House Association\, among others. Please come and show your support for our community.
X-ALT-DESC;FMTTYPE=text/html:The Islesford Fair on Little Cranberry Island will be held on Monday August 7th from 10am to 3pm. This year&rsquo\;s fair will feature: A White Elephant\, Great Food\, Bounce House\, Kids Games\, Races\, Live Music\, Toys\, Furniture\, Antiques\, Art\, Used Clothing\, Boatbuilding Demonstration\, Islesford Historical Society Publications\, Baked Goods\, Local Islesford Goods\, a 2 on 2 Basketball Tournament and more. All proceeds from the fair go directly to island organizations\, including Islesford Volunteer Fire Department\, Islesford Historical Society\, Islesford Boatworks\, and the Islesford Neighborhood House Association\, among others. Please come and show your support for our community.
LOCATION:Islesford\, Little Cranberry Island\, Getting there: Take the ferry to the Cranberry Isles departing from Northeast or Southwest Harbor. Boats leave from Northeast at 7:30\, 10\, 12\, 2\, and 4 and Southwest at 7\, 9\, 11\, 1 and 3.
UID:e.3061.3430
SEQUENCE:3
DTSTAMP:20260420T163547Z
URL:https://www.visitbarharbor.com/events/details/islesford-fair-3430
END:VEVENT

END:VCALENDAR
