BEGIN:VCALENDAR
VERSION:2.0
PRODID:-//ChamberMaster//Event Calendar 2.0//EN
METHOD:PUBLISH
X-PUBLISHED-TTL:P3D
REFRESH-INTERVAL:P3D
CALSCALE:GREGORIAN
BEGIN:VEVENT
DTSTART:20190812T140000Z
DTEND:20190812T180000Z
X-MICROSOFT-CDO-ALLDAYEVENT:FALSE
SUMMARY:Islesford Fair
DESCRIPTION:The 16th Annual Islesford Fair on Little Cranberry Island will be held on Monday August 12th from 10am to 2pm. The Islesford Fair is fun for all ages with a Silent Auction with Items from Local Artists\, White Elephant\, Great Food\, Bounce House\, Games\, Races\, Beach Combers\, Live Music\, Toys\, Furniture\, Antiques\, Art\, Raffle\, Used Clothing\, Boatbuilding Demonstration\, Islesford Historical Society Publications\, Baked Goods\, and more. All proceeds from the fair go directly to island organizations\, including Islesford Volunteer Fire Department\, Islesford Historical Society\, Islesford Boatworks\, Islesford Neighborhood House Association\, and the Cranberry Island Realty Trust\, among others. Please come and show your support for our community. Contact Amanda Ravenhill for more information\, 244-9906. Getting there: Take the ferry to the Cranberry Isles departing from Northeast or Southwest Harbor. Boats leave from Northeast Harbor via Beal and Bunker Ferry at 7:30\, 10\, 12\, and 2 and Southwest Harbor via Cranberry Cove Ferry at 7:15\, 9:15\, and 11:15.
X-ALT-DESC;FMTTYPE=text/html:The 16th Annual Islesford Fair on Little Cranberry Island will be held on Monday August 12th from 10am to 2pm. The Islesford Fair is fun for all ages with a Silent Auction with Items from Local Artists\, White Elephant\, Great Food\, Bounce House\, Games\, Races\, Beach Combers\, Live Music\, Toys\, Furniture\, Antiques\, Art\, Raffle\, Used Clothing\, Boatbuilding Demonstration\, Islesford Historical Society Publications\, Baked Goods\, and more. All proceeds from the fair go directly to island organizations\, including Islesford Volunteer Fire Department\, Islesford Historical Society\, Islesford Boatworks\, Islesford Neighborhood House Association\, and the Cranberry Island Realty Trust\, among others. Please come and show your support for our community. Contact Amanda Ravenhill for more information\, 244-9906. Getting there: Take the ferry to the Cranberry Isles departing from Northeast or Southwest Harbor. Boats leave from Northeast Harbor via Beal and Bunker Ferry at 7:30\, 10\, 12\, and 2 and Southwest Harbor via Cranberry Cove Ferry at 7:15\, 9:15\, and 11:15.
LOCATION:Islesford\, Little Cranberry Island
UID:e.3061.14359
SEQUENCE:3
DTSTAMP:20260419T192421Z
URL:https://www.visitbarharbor.com/events/details/islesford-fair-08-12-2019-14359
END:VEVENT

END:VCALENDAR
