BEGIN:VCALENDAR
VERSION:2.0
PRODID:-//ChamberMaster//Event Calendar 2.0//EN
METHOD:PUBLISH
X-PUBLISHED-TTL:P3D
REFRESH-INTERVAL:P3D
CALSCALE:GREGORIAN
BEGIN:VEVENT
DTSTART;VALUE=DATE:20180721
DTEND;VALUE=DATE:20180722
TRANSP:TRANSPARENT
X-MICROSOFT-CDO-ALLDAYEVENT:TRUE
SUMMARY:Island Connections Annual Dine-Around Day 2018
DESCRIPTION:Dine-Around Day is the longest running fundraising event for Island Connections\, one of MDI's most necessary\, volunteer driven\, non-profit organizations whose mission is to provide free transportation to senior citizens and people with disabilities to enable them to remain living independently in their homes.  MDI residents and visitors are encouraged to demonstrate their financial support for Island Connections by dining at participating restaurants on Dine-Around Day.
X-ALT-DESC;FMTTYPE=text/html:<span style="color:black"><span style="font-family:times new roman\,serif"><span style="font-size:12.0pt">Dine-Around Day is the longest running fundraising event for Island Connections\, one of MDI&rsquo\;s most necessary\, volunteer driven\, non-profit organizations whose mission is to provide free transportation to senior citizens and people with disabilities to enable them to remain living independently in their homes. &nbsp\;MDI residents and visitors are encouraged to demonstrate their financial support for Island Connections by dining at participating restaurants on Dine-Around Day.</span></span></span>
LOCATION:Participating restaurants island wide!
UID:e.3061.3321
SEQUENCE:3
DTSTAMP:20260420T200125Z
URL:https://www.visitbarharbor.com/events/details/island-connections-annual-dine-around-day-2018-3321
END:VEVENT

END:VCALENDAR
