BEGIN:VCALENDAR
VERSION:2.0
PRODID:-//ChamberMaster//Event Calendar 2.0//EN
METHOD:PUBLISH
X-PUBLISHED-TTL:P3D
REFRESH-INTERVAL:P3D
CALSCALE:GREGORIAN
BEGIN:VEVENT
DTSTART;VALUE=DATE:20190126
DTEND;VALUE=DATE:20190127
TRANSP:TRANSPARENT
X-MICROSOFT-CDO-ALLDAYEVENT:TRUE
SUMMARY:Island Connections Announces 3rd Annual Chowder Chowdown for Rides Competition presented by Bar Harbor Savings and Loan.
DESCRIPTION:On Saturday January 26th Island Connections will hold their 3rd Annual Chowder Chowdown for Rides Competition.  The event will be held from 5:00 to 7:00PM at The Neighborhood House in Northeast Harbor.  Cost is $10 per person or $30 per family (family=up to 2 adults plus children in the same family) Price includes chowder\, salad\, bread and beverage. Vote for your favorite to win People's Choice Award. In addition to the chowder we will be raffling off a tremendous prize package valued at over $1200 as well as a 50/50 raffle.\n\nAll proceeds from this event support the Island Connections mission to provide transportation to seniors and people with disabilities on Mt. Desert and surrounding Islands to enhance their independence and quality of life by utilizing our core group of dedicated volunteers.\n\nFor more information visit: Islconnections.org or The Island Connections Facebook page or call 288-4457.
X-ALT-DESC;FMTTYPE=text/html:On Saturday January 26<sup>th</sup> Island Connections will hold their 3<sup>rd</sup> Annual Chowder Chowdown for Rides Competition.&nbsp\; The event will be held from 5:00 to 7:00PM at The Neighborhood House in Northeast Harbor.&nbsp\; Cost is $10 per person or $30 per family (family=up to 2 adults plus children in the same family) Price includes chowder\, salad\, bread and beverage. Vote for your favorite to win People&rsquo\;s Choice Award. In addition to the chowder we will be raffling off a tremendous prize package valued at over $1200 as well as a 50/50 raffle.<br />\nAll proceeds from this event support the Island Connections mission to provide transportation to seniors and people with disabilities on Mt. Desert and surrounding Islands to enhance their independence and quality of life by utilizing our core group of dedicated volunteers.<br />\nFor more information visit: Islconnections.org or The Island Connections Facebook page or call 288-4457. &nbsp\;
LOCATION:Neighborhood House\, 1 Kimball Road Northeast Harbor\, Maine
UID:e.3061.4853
SEQUENCE:3
DTSTAMP:20260420T082240Z
URL:https://www.visitbarharbor.com/events/details/island-connections-announces-3rd-annual-chowder-chowdown-for-rides-competition-presented-by-bar-harbor-savings-and-loan-4853
END:VEVENT

END:VCALENDAR
