BEGIN:VCALENDAR
VERSION:2.0
PRODID:-//ChamberMaster//Event Calendar 2.0//EN
METHOD:PUBLISH
X-PUBLISHED-TTL:P3D
REFRESH-INTERVAL:P3D
CALSCALE:GREGORIAN
BEGIN:VEVENT
DTSTART:20180526T140000Z
DTEND:20180526T210000Z
X-MICROSOFT-CDO-ALLDAYEVENT:FALSE
SUMMARY:Island Arts Association's Spring Craft Fair
DESCRIPTION:The Island Arts Association's Annual Spring Craft Fair will be held on Saturday\, May 26th at the Village Green in Bar Harbor. This annual event will host many island crafters and their beautiful hand-crafted items for sale. Join us in welcoming the warm weather and visit our amazing crafters.
X-ALT-DESC;FMTTYPE=text/html:<strong>The Island Arts Association&#39\;s Annual Spring Craft Fair will be held on Saturday\, May 26th at the Village Green in Bar Harbor. This annual event will host many island crafters and their beautiful hand-crafted items for sale. Join us in welcoming the warm weather and visit our amazing crafters.</strong>
LOCATION:Village Green\, Bar Harbor
UID:e.3061.814
SEQUENCE:3
DTSTAMP:20260420T232704Z
URL:https://www.visitbarharbor.com/events/details/island-arts-association-s-spring-craft-fair-814
END:VEVENT

END:VCALENDAR
