BEGIN:VCALENDAR
VERSION:2.0
PRODID:-//ChamberMaster//Event Calendar 2.0//EN
METHOD:PUBLISH
X-PUBLISHED-TTL:P3D
REFRESH-INTERVAL:P3D
CALSCALE:GREGORIAN
BEGIN:VEVENT
DTSTART:20181006T140000Z
DTEND:20181006T190000Z
X-MICROSOFT-CDO-ALLDAYEVENT:FALSE
SUMMARY:Island Arts Association's Oktoberfest Downtown Craft Fair
DESCRIPTION:The Island Arts Association's Annual Okotberfest Downtown Craft Fair will be held on Saturday\, October 6th from 10am-3pm at the Pemetic Green in Southwest Harbor.  Celebrate Oktoberfest by visiting our Mount Desert Island and surrounding area crafters selling their beautiful hand-crafted creations.
X-ALT-DESC;FMTTYPE=text/html:<strong>The Island Arts Association&#39\;s Annual Okotberfest Downtown Craft Fair will be held on Saturday\, October 6th from 10am-3pm at the Pemetic Green in Southwest Harbor.&nbsp\; Celebrate Oktoberfest by visiting our Mount Desert Island and surrounding area crafters selling their beautiful hand-crafted creations.</strong>
LOCATION:Pemetic Green\, Southwest Harbor\, Maine
UID:e.3061.829
SEQUENCE:3
DTSTAMP:20260420T132704Z
URL:https://www.visitbarharbor.com/events/details/island-arts-association-s-oktoberfest-downtown-craft-fair-829
END:VEVENT

END:VCALENDAR
