BEGIN:VCALENDAR
VERSION:2.0
PRODID:-//ChamberMaster//Event Calendar 2.0//EN
METHOD:PUBLISH
X-PUBLISHED-TTL:P3D
REFRESH-INTERVAL:P3D
CALSCALE:GREGORIAN
BEGIN:VEVENT
DTSTART:20180804T120000Z
DTEND:20180804T180000Z
X-MICROSOFT-CDO-ALLDAYEVENT:FALSE
SUMMARY:Island Arts Association's Made in Maine Craft Fair
DESCRIPTION:The Island Arts Association will hold it's annual Made in Maine Craft Fair on Saturday\, August 4 at the Knowlton School\, State Street in Ellsworth from 8am-2pm. Visit our local artisans selling their beautiful hand-crafted items.
X-ALT-DESC;FMTTYPE=text/html:<strong>The Island Arts Association will hold it&#39\;s annual Made in Maine Craft Fair on Saturday\, August 4 at the Knowlton School\, State Street in Ellsworth from 8am-2pm. Visit our local artisans selling their beautiful hand-crafted items.</strong>
LOCATION:Knowlton School\, State Street\, Ellsworth\, Maine
UID:e.3061.825
SEQUENCE:3
DTSTAMP:20260420T170557Z
URL:https://www.visitbarharbor.com/events/details/island-arts-association-s-made-in-maine-craft-fair-825
END:VEVENT

END:VCALENDAR
