BEGIN:VCALENDAR
VERSION:2.0
PRODID:-//ChamberMaster//Event Calendar 2.0//EN
METHOD:PUBLISH
X-PUBLISHED-TTL:P3D
REFRESH-INTERVAL:P3D
CALSCALE:GREGORIAN
BEGIN:VEVENT
DTSTART:20191012T140000Z
DTEND:20191012T190000Z
X-MICROSOFT-CDO-ALLDAYEVENT:FALSE
SUMMARY:Island Arts Association's Annual Oktoberfest Craft Fair
DESCRIPTION:The Island Arts Association's Annual Oktoberfest Craft Fair will be held on Saturday\, October 12\, 2019 from 10am-3pm at the Pemetic Green\, Main Street in Southwest Harbor. Join the celebration by visiting our local artisans selling their beautiful hand-made crafts.
X-ALT-DESC;FMTTYPE=text/html:The Island Arts Association&#39\;s Annual Oktoberfest Craft Fair will be held on Saturday\, October 12\, 2019 from 10am-3pm at the Pemetic Green\, Main Street in Southwest Harbor. Join the celebration by visiting our local artisans selling their beautiful hand-made crafts.
LOCATION:Pemetic School Green\, Main Street\, Southwest Harbor
UID:e.3061.8816
SEQUENCE:3
DTSTAMP:20260419T160221Z
URL:https://www.visitbarharbor.com/events/details/island-arts-association-s-annual-oktoberfest-craft-fair-8816
END:VEVENT

END:VCALENDAR
