BEGIN:VCALENDAR
VERSION:2.0
PRODID:-//ChamberMaster//Event Calendar 2.0//EN
METHOD:PUBLISH
X-PUBLISHED-TTL:P3D
REFRESH-INTERVAL:P3D
CALSCALE:GREGORIAN
BEGIN:VEVENT
DTSTART:20190526T140000Z
DTEND:20190526T210000Z
X-MICROSOFT-CDO-ALLDAYEVENT:FALSE
SUMMARY:Island Arts Association's Annual Memorial Day Weekend Craft Fair
DESCRIPTION:The Island Arts Association's Annual Memorial Day Weekend Craft Fair will be held on Saturday\, May 25\, 2019 from 10am-5pm and Sunday\, May 26\, 2019 from 10am-5pm at the Village Green in Bar Harbor. Local artisans will be selling their beautiful hand-made crafts. Make this craft fair a part of your holiday weekend.
X-ALT-DESC;FMTTYPE=text/html:The Island Arts Association&#39\;s Annual Memorial Day Weekend Craft Fair will be held on Saturday\, May 25\, 2019 from 10am-5pm and Sunday\, May 26\, 2019 from 10am-5pm at the Village Green in Bar Harbor. Local artisans will be selling their beautiful hand-made crafts. Make this craft fair a part of your holiday weekend.
LOCATION:Village Green\, Bar Harbor
UID:e.3061.8792
SEQUENCE:3
DTSTAMP:20260420T024335Z
URL:https://www.visitbarharbor.com/events/details/island-arts-association-s-annual-memorial-day-weekend-craft-fair-05-26-2019-8792
END:VEVENT

END:VCALENDAR
