BEGIN:VCALENDAR
VERSION:2.0
PRODID:-//ChamberMaster//Event Calendar 2.0//EN
METHOD:PUBLISH
X-PUBLISHED-TTL:P3D
REFRESH-INTERVAL:P3D
CALSCALE:GREGORIAN
BEGIN:VEVENT
DTSTART:20180902T140000Z
DTEND:20180902T210000Z
X-MICROSOFT-CDO-ALLDAYEVENT:FALSE
SUMMARY:Island Arts Association's Annual Labor Day Weekend Craft Fair
DESCRIPTION:The Island Arts Association will host their Annual Labor Day Weekend Craft Fair on Saturday\, September 1st from 10am-6pm and Sunday\, September 2nd from 10am-5pm at the Village Green in Bar Harbor.  This two day craft fair will feature crafters from Mount Desert Island and the surrounding islands that will be selling their beautiful hand-crafted items. Make your Labor Day a memorable one by stopping by to visit these talented artisans and shopping local.
X-ALT-DESC;FMTTYPE=text/html:<strong>The Island Arts Association will host their Annual Labor Day Weekend Craft Fair on Saturday\, September 1st from 10am-6pm and Sunday\, September 2nd from 10am-5pm at the Village Green in Bar Harbor. &nbsp\;This two day craft fair will feature crafters from Mount Desert Island and the surrounding islands that will be selling their beautiful hand-crafted items. Make your Labor Day a memorable one by stopping by to visit these talented artisans and shopping local.</strong>
LOCATION:Village Green\, Bar Harbor\, ME 04609
UID:e.3061.828
SEQUENCE:3
DTSTAMP:20260420T170733Z
URL:https://www.visitbarharbor.com/events/details/island-arts-association-s-annual-labor-day-weekend-craft-fair-09-02-2018-828
END:VEVENT

END:VCALENDAR
