BEGIN:VCALENDAR
VERSION:2.0
PRODID:-//ChamberMaster//Event Calendar 2.0//EN
METHOD:PUBLISH
X-PUBLISHED-TTL:P3D
REFRESH-INTERVAL:P3D
CALSCALE:GREGORIAN
BEGIN:VEVENT
DTSTART:20190831T140000Z
DTEND:20190831T210000Z
X-MICROSOFT-CDO-ALLDAYEVENT:FALSE
SUMMARY:Island Arts Association's Annual Labor Day Weekend Craft Fair
DESCRIPTION:The Island Arts Association's Annual Labor Day Weekend Craft Fair will be on Saturday\, August 31\, 2019 from 10am-5pm and Sunday\, September 1\, 2019 from 10am-5pm at the Village Green in Bar Harbor. The IAA's local artisans will have their beautiful hand-made crafts for sale. Make this craft fair a part of your holiday weekend.
X-ALT-DESC;FMTTYPE=text/html:The Island Arts Association&#39\;s Annual Labor Day Weekend Craft Fair will be on Saturday\, August 31\, 2019 from 10am-5pm and Sunday\, September 1\, 2019 from 10am-5pm at the Village Green in Bar Harbor. The IAA&#39\;s local artisans will have their beautiful hand-made crafts for sale. Make this craft fair a part of your holiday weekend.
LOCATION:Village Green\, Bar Harbor
UID:e.3061.8808
SEQUENCE:3
DTSTAMP:20260419T193631Z
URL:https://www.visitbarharbor.com/events/details/island-arts-association-s-annual-labor-day-weekend-craft-fair-08-31-2019-8808
END:VEVENT

END:VCALENDAR
