BEGIN:VCALENDAR
VERSION:2.0
PRODID:-//ChamberMaster//Event Calendar 2.0//EN
METHOD:PUBLISH
X-PUBLISHED-TTL:P3D
REFRESH-INTERVAL:P3D
CALSCALE:GREGORIAN
BEGIN:VEVENT
DTSTART:20181130T140000Z
DTEND:20181201T200000Z
X-MICROSOFT-CDO-ALLDAYEVENT:FALSE
SUMMARY:Island Arts Association's Annual Holiday Fair
DESCRIPTION:The Island Arts Association will hold our 44th Annual Holiday Fair on Friday\, November 30th from 9:00 am - 5:00 pm and Saturday from 9:00 am - 3:00 pm. This fair will feature our local artisans with their beautiful crafts for sale\, the YWCA's delicious luncheon and raffle. Don't miss this wonderful opportunity to support our crafters and shop local for the holidays.
X-ALT-DESC;FMTTYPE=text/html:The Island Arts Association will hold our 44th Annual Holiday Fair on Friday\, November 30th from 9:00 am - 5:00 pm and Saturday from 9:00 am - 3:00 pm. This fair will feature our local artisans with their beautiful crafts for sale\, the YWCA&#39\;s delicious luncheon and raffle. Don&#39\;t miss this wonderful opportunity to support our crafters and shop local for the holidays.
LOCATION:Atlantic Oceanside Conference Center 119 Eden Street (Rt. 3) Bar Harbor
UID:e.3061.3945
SEQUENCE:3
DTSTAMP:20260420T100757Z
URL:https://www.visitbarharbor.com/events/details/island-arts-association-s-annual-holiday-fair-3945
END:VEVENT

END:VCALENDAR
