BEGIN:VCALENDAR
VERSION:2.0
PRODID:-//ChamberMaster//Event Calendar 2.0//EN
METHOD:PUBLISH
X-PUBLISHED-TTL:P3D
REFRESH-INTERVAL:P3D
CALSCALE:GREGORIAN
BEGIN:VEVENT
DTSTART:20180704T130000Z
DTEND:20180704T190000Z
X-MICROSOFT-CDO-ALLDAYEVENT:FALSE
SUMMARY:Island Arts Association's Annual 4th of July Craft Fair
DESCRIPTION:The Island Arts Association will hold their annual 4th of July Craft Fair from 9am-3pm at the MDI YMCA parking lot\, across the street from the ball field on Park Street in Bar Harbor. Join us in celebrating the 4th of July and stop by to visit our host of crafters from Mount Desert Island and the surrounding area\, as they offer their beautiful hand-crafted items for sale.
X-ALT-DESC;FMTTYPE=text/html:<strong><strong>The Island Arts Association will hold their annual 4th of July Craft Fair from 9am-3pm at the MDI YMCA parking lot\, across the street from the ball field on Park Street in Bar Harbor. Join us in celebrating the 4th of July and stop by to visit our host of crafters from Mount Desert Island and the surrounding area\, as they offer their beautiful hand-crafted items for sale.</strong></strong>
LOCATION:MDI YMCA\, Park Street\, Bar Harbor
UID:e.3061.822
SEQUENCE:3
DTSTAMP:20260420T200517Z
URL:https://www.visitbarharbor.com/events/details/island-arts-association-s-annual-4th-of-july-craft-fair-822
END:VEVENT

END:VCALENDAR
