BEGIN:VCALENDAR
VERSION:2.0
PRODID:-//ChamberMaster//Event Calendar 2.0//EN
METHOD:PUBLISH
X-PUBLISHED-TTL:P3D
REFRESH-INTERVAL:P3D
CALSCALE:GREGORIAN
BEGIN:VEVENT
DTSTART:20180819T140000Z
DTEND:20180819T210000Z
X-MICROSOFT-CDO-ALLDAYEVENT:FALSE
SUMMARY:Island Arts Association's 14th Annual Fair at Southwest Harbor\, Sunday
DESCRIPTION:The Island Arts Association will hold their 14th Annual Craft Fair at Southwest Harbor on Sunday\, August 19th from 10am - 5pm at the Pemetic Green in Southwest Harbor. Visit our Mount Desert Island and surrounding area crafters selling their beautiful hand-crafted items.
X-ALT-DESC;FMTTYPE=text/html:<strong>The Island Arts Association will hold their 14th Annual Craft Fair at Southwest Harbor on Sunday\, August 19th from 10am - 5pm at the Pemetic Green in Southwest Harbor. Visit our Mount Desert Island and surrounding area crafters selling their beautiful hand-crafted items.</strong>
LOCATION:Pemetic Green\, Southwest Harbor\, Maine
UID:e.3061.826
SEQUENCE:3
DTSTAMP:20260420T183302Z
URL:https://www.visitbarharbor.com/events/details/island-arts-association-s-14th-annual-fair-at-southwest-harbor-sunday-826
END:VEVENT

END:VCALENDAR
