BEGIN:VCALENDAR
VERSION:2.0
PRODID:-//ChamberMaster//Event Calendar 2.0//EN
METHOD:PUBLISH
X-PUBLISHED-TTL:P3D
REFRESH-INTERVAL:P3D
CALSCALE:GREGORIAN
BEGIN:VEVENT
DTSTART:20190803T150000Z
DTEND:20190803T190000Z
X-MICROSOFT-CDO-ALLDAYEVENT:FALSE
SUMMARY:Introduction to Silkscreening
DESCRIPTION:In this course we will explore silkscreening using paper stencils. You will build basic silkscreen printmaking techniques. You will have the opportunity to print in various colors and create your own designs on cards and cloth. We will provide blank cards and fabric squares\, but feel free to bring in your own shirts\, bags\, or other fabrics to print on.
X-ALT-DESC;FMTTYPE=text/html:In this course we will explore silkscreening using paper stencils. You will build basic silkscreen printmaking techniques. You will have the opportunity to print in various colors and create your own designs on cards and cloth. We will provide blank cards and fabric squares\, but feel free to bring in your own shirts\, bags\, or other fabrics to print on.
LOCATION:1345-A State Highway 102 Bar Harbor\, ME 04609
UID:e.3061.14328
SEQUENCE:3
DTSTAMP:20260419T192123Z
URL:https://www.visitbarharbor.com/events/details/introduction-to-silkscreening-08-03-2019-14328
END:VEVENT

END:VCALENDAR
