BEGIN:VCALENDAR
VERSION:2.0
PRODID:-//ChamberMaster//Event Calendar 2.0//EN
METHOD:PUBLISH
X-PUBLISHED-TTL:P3D
REFRESH-INTERVAL:P3D
CALSCALE:GREGORIAN
BEGIN:VEVENT
DTSTART:20190917T213000Z
DTEND:20190918T000000Z
X-MICROSOFT-CDO-ALLDAYEVENT:FALSE
SUMMARY:Introduction to Oil Painting: 5 Week Class
DESCRIPTION:with Nicole DeSimone. This 5 week course will familiarize students with the basic practices and techniques of oil painting. Students will get instruction in mixing paints\, color theory\, value study\, proportion and drawing with paint\, and will work on creating paintings from direct observation. Supply list will be provided. Beginners encouraged!
X-ALT-DESC;FMTTYPE=text/html:with Nicole DeSimone. This 5 week course will familiarize students with the basic practices and techniques of oil painting. Students will get instruction in mixing paints\, color theory\, value study\, proportion and drawing with paint\, and will work on creating paintings from direct observation. Supply list will be provided. Beginners encouraged!&nbsp\;
LOCATION:ArtWaves\, 1345-A State Highway 102\, Bar Harbor.
UID:e.3061.14713
SEQUENCE:3
DTSTAMP:20260419T173841Z
URL:https://www.visitbarharbor.com/events/details/introduction-to-oil-painting-5-week-class-09-17-2019-14713
END:VEVENT

END:VCALENDAR
