BEGIN:VCALENDAR
VERSION:2.0
PRODID:-//ChamberMaster//Event Calendar 2.0//EN
METHOD:PUBLISH
X-PUBLISHED-TTL:P3D
REFRESH-INTERVAL:P3D
CALSCALE:GREGORIAN
BEGIN:VEVENT
DTSTART:20180530T223000Z
DTEND:20180531T000000Z
X-MICROSOFT-CDO-ALLDAYEVENT:FALSE
SUMMARY:Interrupting Racism: An Interactive Workshop
DESCRIPTION:We are all so good at thinking of the perfect thing we should have said... a day later. But is there some way we can prepare ourselves so that we won't be caught off-guard by that racist joke\, that ignorant observation\, that insensitive comment? Yes! In this lively\, informative\, hands-on\, and PRACTICAL workshop\, playwright\, performer\, director\, and activist Carolyn Gage will give participants the tools to interrupt racism as it happens.
X-ALT-DESC;FMTTYPE=text/html:We are all so good at thinking of the perfect thing we should have said... a day later. But is there some way we can prepare ourselves so that we won&#39\;t be caught off-guard by that racist joke\, that ignorant observation\, that insensitive comment? Yes! In this lively\, informative\, hands-on\, and PRACTICAL workshop\, playwright\, performer\, director\, and activist Carolyn Gage will give participants the tools to interrupt racism as it happens.
LOCATION:Southwest Harbor Public Library
UID:e.3061.2574
SEQUENCE:3
DTSTAMP:20260420T213415Z
URL:https://www.visitbarharbor.com/events/details/interrupting-racism-an-interactive-workshop-2574
END:VEVENT

END:VCALENDAR
