BEGIN:VCALENDAR
VERSION:2.0
PRODID:-//ChamberMaster//Event Calendar 2.0//EN
METHOD:PUBLISH
X-PUBLISHED-TTL:P3D
REFRESH-INTERVAL:P3D
CALSCALE:GREGORIAN
BEGIN:VEVENT
DTSTART:20220701T020000Z
DTEND:20220701T033000Z
X-MICROSOFT-CDO-ALLDAYEVENT:FALSE
SUMMARY:ImprovAcadia's Improv Comedy returns with adult shows
DESCRIPTION:ImprovAcadia's signature improv comedy returns after a two year hiatus for one week. Featuring some of our and audience favorite performers\, professional improvisers and veterans of Chicago's famed Second City\, we're back with 8pm family shows and 10pm adult shows. The 10pm shows are on Wednesday\, 6/29 through Saturday\, 7/2.
X-ALT-DESC;FMTTYPE=text/html:ImprovAcadia&#39\;s signature improv comedy returns after a two year hiatus for one week. Featuring some of our and audience favorite performers\, professional improvisers and veterans of Chicago&#39\;s famed Second City\, we&#39\;re back with 8pm family shows and 10pm adult shows. The 10pm shows are on Wednesday\, 6/29 through Saturday\, 7/2.
LOCATION:15 Cottage St. 2nd floor Bar Harbor ME 04609
UID:e.3061.39844
SEQUENCE:3
DTSTAMP:20260420T061551Z
URL:https://www.visitbarharbor.com/events/details/improvacadia-s-improv-comedy-returns-with-adult-shows-06-30-2022-39844
END:VEVENT

END:VCALENDAR
