BEGIN:VCALENDAR
VERSION:2.0
PRODID:-//ChamberMaster//Event Calendar 2.0//EN
METHOD:PUBLISH
X-PUBLISHED-TTL:P3D
REFRESH-INTERVAL:P3D
CALSCALE:GREGORIAN
BEGIN:VEVENT
DTSTART:20220713T000000Z
DTEND:20220713T013000Z
X-MICROSOFT-CDO-ALLDAYEVENT:FALSE
SUMMARY:ImprovAcadia Presents ochrence & Mahya Hamedi
DESCRIPTION:Mahya Hamedi is a wonderful vocalist\, pianist \, and composer from Tehran. Her music is beautiful and soulful. Here's an example.\n\n\n\nochrence is a Boston based singer/songwriter. Here's some of his music.
X-ALT-DESC;FMTTYPE=text/html:Mahya Hamedi is a wonderful vocalist\, pianist \, and composer from Tehran. Her music is beautiful and soulful. <a href="https://open.spotify.com/artist/7bL7lSUuGeAaWCHYwbvtqz?si=qJHog3MNTmOH9CxXZQoosw&amp\;dl_branch=1&amp\;nd=1">Here&#39\;s an example.</a><br />\n<br />\nochrence is a Boston based singer/songwriter. <a href="https://ochrence.bandcamp.com">Here&#39\;s some of his music.</a><br />\n<br />\n<br />\n<br />\n<br />\n&nbsp\;
LOCATION:15 Cottage St 2nd floor Bar Harbor
UID:e.3061.40607
SEQUENCE:3
DTSTAMP:20260420T021314Z
URL:https://www.visitbarharbor.com/events/details/improvacadia-presents-ochrence-mahya-hamedi-40607
END:VEVENT

END:VCALENDAR
