BEGIN:VCALENDAR
VERSION:2.0
PRODID:-//ChamberMaster//Event Calendar 2.0//EN
METHOD:PUBLISH
X-PUBLISHED-TTL:P3D
REFRESH-INTERVAL:P3D
CALSCALE:GREGORIAN
BEGIN:VEVENT
DTSTART:20190526T020000Z
DTEND:20190526T033000Z
X-MICROSOFT-CDO-ALLDAYEVENT:FALSE
SUMMARY:ImprovAcadia Late Show
DESCRIPTION:ImprovAcadia\, Bar Harbor's improvisational comedy theater celebrates its 16th season! We feature a cast of the best and funniest professional improvisers from Chicago and Maine. We have a full bar\, snacks & desserts. The 10pm show tonight is for mature audiences and immature adults.
X-ALT-DESC;FMTTYPE=text/html:ImprovAcadia\, Bar Harbor&rsquo\;s improvisational comedy theater celebrates its 16th season! We feature a cast of the best and funniest professional improvisers from Chicago and Maine. We have a full bar\, snacks &amp\; desserts. The 10pm show tonight is for mature audiences and immature adults.
LOCATION:15 Cottage St 2nd fl
UID:e.3061.9013
SEQUENCE:3
DTSTAMP:20260420T023526Z
URL:https://www.visitbarharbor.com/events/details/improvacadia-late-show-9013
END:VEVENT

END:VCALENDAR
