BEGIN:VCALENDAR
VERSION:2.0
PRODID:-//ChamberMaster//Event Calendar 2.0//EN
METHOD:PUBLISH
X-PUBLISHED-TTL:P3D
REFRESH-INTERVAL:P3D
CALSCALE:GREGORIAN
BEGIN:VEVENT
DTSTART:20220703T000000Z
DTEND:20220703T013000Z
X-MICROSOFT-CDO-ALLDAYEVENT:FALSE
SUMMARY:ImprovAcadia Improv Comedy returns!
DESCRIPTION:After a two year hiatus\, ImprovAcadia returns with their signature improv comedy for one week. We're bringing back some of our and audiences' favorite performers   professional Improvisers\, and veterans of Chicago's famed Second City. One family friendly show at 8pm on Tuesday\, 6/28 and two shows  family show at 8pm and an adult show at 10pm Wednesday 6/29 through Saturday\, 7/2.
X-ALT-DESC;FMTTYPE=text/html:After a two year hiatus\, ImprovAcadia returns with their signature improv comedy for one week. We&#39\;re bringing back some of our and audiences&#39\; favorite performers &ndash\; professional Improvisers\, and veterans of Chicago&#39\;s famed Second City. One family friendly show at 8pm on Tuesday\, 6/28 and two shows&ndash\; family show at 8pm and an adult show at 10pm Wednesday 6/29 through Saturday\, 7/2.
LOCATION:15 Cottage St. 2nd floor Bar Harbor ME 04609
UID:e.3061.39841
SEQUENCE:3
DTSTAMP:20260420T045128Z
URL:https://www.visitbarharbor.com/events/details/improvacadia-improv-comedy-returns-07-02-2022-39841
END:VEVENT

END:VCALENDAR
