BEGIN:VCALENDAR
VERSION:2.0
PRODID:-//ChamberMaster//Event Calendar 2.0//EN
METHOD:PUBLISH
X-PUBLISHED-TTL:P3D
REFRESH-INTERVAL:P3D
CALSCALE:GREGORIAN
BEGIN:VEVENT
DTSTART:20191020T000000Z
DTEND:20191020T013000Z
X-MICROSOFT-CDO-ALLDAYEVENT:FALSE
SUMMARY:ImprovAcadia Comedy Theater Season Closing Night Show
DESCRIPTION:ImprovAcadia wraps up their 16th Season entertaining tourists and locals with professional Improvisers\, veterans of Chicago's famed Second City. Come celebrate over 5\,000 shows as they finish their 2019 season. Call or email for info and reservations.
X-ALT-DESC;FMTTYPE=text/html:ImprovAcadia wraps up their 16th Season entertaining tourists and locals with professional Improvisers\, veterans of Chicago&#39\;s famed Second City. Come celebrate over 5\,000 shows as they finish their 2019 season. Call or email for info and reservations.
LOCATION:15 Cottage St. 2nd floor Bar Harbor ME 04609
UID:e.3061.15252
SEQUENCE:3
DTSTAMP:20260419T160039Z
URL:https://www.visitbarharbor.com/events/details/improvacadia-comedy-theater-season-closing-night-show-15252
END:VEVENT

END:VCALENDAR
