BEGIN:VCALENDAR
VERSION:2.0
PRODID:-//ChamberMaster//Event Calendar 2.0//EN
METHOD:PUBLISH
X-PUBLISHED-TTL:P3D
REFRESH-INTERVAL:P3D
CALSCALE:GREGORIAN
BEGIN:VEVENT
DTSTART:20191013T020000Z
DTEND:20191013T033000Z
X-MICROSOFT-CDO-ALLDAYEVENT:FALSE
SUMMARY:ImprovAcadia Comedy Theater Late Adult Show
DESCRIPTION:ImprovAcadia is open for their 16th Season entertaining tourists and locals with professional Improvisers\, veterans of Chicago's famed Second City. 1 to 2 shows a night\, 6 to 7 nights a week until October 19th. Call or email for info and reservations. The 10pm show is an adult themed show.
X-ALT-DESC;FMTTYPE=text/html:ImprovAcadia is open for their 16th Season entertaining tourists and locals with professional Improvisers\, veterans of Chicago&#39\;s famed Second City. 1 to 2 shows a night\, 6 to 7 nights a week until October 19th. Call or email for info and reservations. The 10pm show is an adult themed show.
LOCATION:15 Cottage St. 2nd floor Bar Harbor ME 04609
UID:e.3061.15253
SEQUENCE:3
DTSTAMP:20260419T160325Z
URL:https://www.visitbarharbor.com/events/details/improvacadia-comedy-theater-late-adult-show-10-12-2019-15253
END:VEVENT

END:VCALENDAR
